BEGIN:VCALENDAR
VERSION:2.0
PRODID:-//89.9 The Wave - ECPv4.6.26//NONSGML v1.0//EN
CALSCALE:GREGORIAN
METHOD:PUBLISH
X-WR-CALNAME:89.9 The Wave
X-ORIGINAL-URL:https://899thewave.fm
X-WR-CALDESC:Events for 89.9 The Wave
BEGIN:VEVENT
DTSTART;VALUE=DATE:20211231
DTEND;VALUE=DATE:20220101
DTSTAMP:20260425T112930
CREATED:20201207T155937Z
LAST-MODIFIED:20211125T145931Z
UID:13687-1640908800-1640995199@899thewave.fm
SUMMARY:NEW YEAR'S EVE
DESCRIPTION:In the Gregorian calendar\, New Year’s Eve (also known as Old Year’s Day or Saint Sylvester’s Day in many countries)\, the last day of the year\, is on 31 December.\nIn many countries\, New Year’s Eve is celebrated at evening parties\, where many people dance\, eat\, drink\, and watch or light fireworks.\nSome Christians attend a watchnight service.\nThe celebrations generally go on past midnight into New Year’s Day\, 1 January. \nThe Line Islands (part of Kiribati) and Tonga\, are examples of the first places to welcome the New Year\, while Baker Island (an uninhabited atoll part of the United States Minor Outlying Islands) and American Samoa are among the last. \n
URL:https://899thewave.fm/event/new-years-eve-2/
CATEGORIES:Observances
ATTACH;FMTTYPE=image/jpeg:https://899thewave.fm/wp-content/uploads/sites/4/2020/12/photo-1498931299472-f7a63a5a1cfa.jpg
END:VEVENT
BEGIN:VEVENT
DTSTART;TZID=America/Halifax:20211231T230000
DTEND;TZID=America/Halifax:20211231T235900
DTSTAMP:20260425T112930
CREATED:20211230T135727Z
LAST-MODIFIED:20211231T154347Z
UID:15920-1640991600-1640995140@899thewave.fm
SUMMARY:HRM VIRTUAL NEW YEAR'S EVE
DESCRIPTION:Mayor Mike Savage and members of Regional Council are inviting residents to tune into this year’s virtual New Year’s Eve celebrations. \nAt 11 p.m. on Friday\, December 31\, the Halifax Regional Municipality’s YouTube channel will feature two broadcasts for viewing: \n  \nBroadcast 1 – Golden Era of Music (1971) tribute created by Terra Spencer. Hosted by Travis Lindsay\, Neon Dreams and Iron Tide tribute to the Winter Solstice plus a welcome message from Mayor Mike Savage. This broadcast can also be viewed on Eastlink Community TV channels 10 and 610. \n  \nBroadcast 2 – Cloverdale\, Okay TK\, professional dancers\, acrobats\, and a local fashion showcase by Soli Models. \n  \nBoth Eastlink Community TV channels YouTube broadcasts will be hosted by comedian Travis Lindsay from Just for Laughs and This Hour Has 22 Minutes\, and will also feature special guests throughout the evening. \n  \nHave a safe and happy New Year’s Eve. \n
URL:https://899thewave.fm/event/new-years-eve-3/
CATEGORIES:Community,Entertainment,Observances
ATTACH;FMTTYPE=image/jpeg:https://899thewave.fm/wp-content/uploads/sites/4/2021/07/photo-1609430722978-b99af21e8265.jpg
END:VEVENT
END:VCALENDAR