BEGIN:VCALENDAR
VERSION:2.0
PRODID:-//89.9 The Wave - ECPv4.6.26//NONSGML v1.0//EN
CALSCALE:GREGORIAN
METHOD:PUBLISH
X-WR-CALNAME:89.9 The Wave
X-ORIGINAL-URL:https://899thewave.fm
X-WR-CALDESC:Events for 89.9 The Wave
BEGIN:VEVENT
DTSTART;VALUE=DATE:20211226
DTEND;VALUE=DATE:20211227
DTSTAMP:20260423T053654
CREATED:20201207T155750Z
LAST-MODIFIED:20201231T130823Z
UID:13683-1640476800-1640563199@899thewave.fm
SUMMARY:BOXING DAY
DESCRIPTION:Boxing Day is a holiday celebrated the day after Christmas Day\, thus being the second day of Christmastide.  It originated in the United Kingdom and is celebrated in a number of countries that previously formed part of the British Empire. \nBoxing Day is on 26 December\, although the attached bank holiday or public holiday may take place either on that day or one or two days later. \nIn Nova Scotia Boxing Day is not a statutory holiday. It is\, however\, a stat holiday for federally regulated workers and banks across the country. \nIn parts of Europe\, such as Romania\, Hungary\, Germany\, Poland\, the Netherlands\, the Czech Republic\, Catalonia and Scandinavia\, 26 December is celebrated as a second Christmas Day. \n
URL:https://899thewave.fm/event/boxing-day-3/
CATEGORIES:Community,Observances
ATTACH;FMTTYPE=image/jpeg:https://899thewave.fm/wp-content/uploads/sites/4/2020/12/photo-1474625121024-7595bfbc57ac.jpg
END:VEVENT
END:VCALENDAR