BEGIN:VCALENDAR
VERSION:2.0
PRODID:-//89.9 The Wave - ECPv4.6.26//NONSGML v1.0//EN
CALSCALE:GREGORIAN
METHOD:PUBLISH
X-WR-CALNAME:89.9 The Wave
X-ORIGINAL-URL:https://899thewave.fm
X-WR-CALDESC:Events for 89.9 The Wave
BEGIN:VEVENT
DTSTART;VALUE=DATE:20211221
DTEND;VALUE=DATE:20211222
DTSTAMP:20260422T233738
CREATED:20200304T125130Z
LAST-MODIFIED:20211125T144229Z
UID:11344-1640044800-1640131199@899thewave.fm
SUMMARY:FIRST DAY OF WINTER
DESCRIPTION:Winter begins today at 12:59PM Atlantic Standard Time \nToday is the shortest day of the year\, which means that it’s the day in which we experience the least amount of daylight. \nLogically\, it would make sense to assume that this is also the coldest day of the year\, since we are exposed to less warmth-giving sunlight on this day than at any other time. But this is not true.\nThe coldest day of the year is usually in January (something to look forward to) \n  \n  \n
URL:https://899thewave.fm/event/first-day-of-winter/
CATEGORIES:Observances
ATTACH;FMTTYPE=image/jpeg:https://899thewave.fm/wp-content/uploads/sites/4/2020/01/photo-1577961636125-6d94f90d7617.jpg
END:VEVENT
END:VCALENDAR