BEGIN:VCALENDAR
VERSION:2.0
PRODID:-//89.9 The Wave - ECPv4.6.26//NONSGML v1.0//EN
CALSCALE:GREGORIAN
METHOD:PUBLISH
X-WR-CALNAME:89.9 The Wave
X-ORIGINAL-URL:https://899thewave.fm
X-WR-CALDESC:Events for 89.9 The Wave
BEGIN:VEVENT
DTSTART;VALUE=DATE:20211128
DTEND;VALUE=DATE:20211129
DTSTAMP:20260421T190349
CREATED:20211130T130047Z
LAST-MODIFIED:20211130T130229Z
UID:15870-1638057600-1638143999@899thewave.fm
SUMMARY:HANUKKAH BEGINS
DESCRIPTION:Chanukah (Hanukkah) begins this evening\, and continues through Monday\, December 6\nChanukah is the Jewish eight-day\, wintertime “festival of lights\,” celebrated with a nightly menorah lighting\, special prayers and fried foods. \nRead more about Hanukkah \n
URL:https://899thewave.fm/event/hanukkah-nov-28-dec-6/
CATEGORIES:Holiday,Observances
ATTACH;FMTTYPE=image/jpeg:https://899thewave.fm/wp-content/uploads/sites/4/2021/11/photo-1511896224909-4207adfd55c6.jpg
END:VEVENT
END:VCALENDAR