BEGIN:VCALENDAR
VERSION:2.0
PRODID:-//89.9 The Wave - ECPv4.6.26//NONSGML v1.0//EN
CALSCALE:GREGORIAN
METHOD:PUBLISH
X-WR-CALNAME:89.9 The Wave
X-ORIGINAL-URL:https://899thewave.fm
X-WR-CALDESC:Events for 89.9 The Wave
BEGIN:VEVENT
DTSTART;VALUE=DATE:20211104
DTEND;VALUE=DATE:20211105
DTSTAMP:20260420T115850
CREATED:20211104T184132Z
LAST-MODIFIED:20211104T184132Z
UID:15799-1635984000-1636070399@899thewave.fm
SUMMARY:DIWALI
DESCRIPTION:Diwali\, the festival of lights\, is a religious observance commemorated by Hindus\, Sikhs\, Jains and some Buddhists around the world. \nThis year\, Diwali begins on Thursday 4 November on the Gregorian calendar. \nThe festival typically lasts for four to five days and coincides with the new moon on the Hindu lunisolar calendar\, called amavasya. \n  \n
URL:https://899thewave.fm/event/diwali/
CATEGORIES:Observances
ATTACH;FMTTYPE=image/jpeg:https://899thewave.fm/wp-content/uploads/sites/4/2021/11/B6AB1C68-B248-4BDE-B007-2BE51FBE6140.jpeg
END:VEVENT
END:VCALENDAR