BEGIN:VCALENDAR
VERSION:2.0
PRODID:-//89.9 The Wave - ECPv4.6.26//NONSGML v1.0//EN
CALSCALE:GREGORIAN
METHOD:PUBLISH
X-WR-CALNAME:89.9 The Wave
X-ORIGINAL-URL:https://899thewave.fm
X-WR-CALDESC:Events for 89.9 The Wave
BEGIN:VEVENT
DTSTART;VALUE=DATE:20211027
DTEND;VALUE=DATE:20211028
DTSTAMP:20260420T021036
CREATED:20201022T150917Z
LAST-MODIFIED:20211004T124940Z
UID:13358-1635292800-1635379199@899thewave.fm
SUMMARY:It’s the Great Pumpkin\, Charlie Brown (1966)
DESCRIPTION:Aired for the first time October 27\, 1966 (ABC) \nIt’s the Great Pumpkin\, Charlie Brown is a prime time animated television special based on the comic strip Peanuts by Charles M. Schulz\, \nA Halloween special\, it was the third Peanuts special (and second holiday-themed special\, following A Charlie Brown Christmas) to be produced and animated by Bill Melendez. \nThe special features music composed by jazz pianist Vince Guaraldi\, whose contributions include the theme song “Linus and Lucy”. \n
URL:https://899thewave.fm/event/its-the-great-pumpkin-charlie-brown-1966/
CATEGORIES:Entertainment,Observances
ATTACH;FMTTYPE=image/jpeg:https://899thewave.fm/wp-content/uploads/sites/4/2020/10/download-5.jpg
END:VEVENT
END:VCALENDAR