BEGIN:VCALENDAR
VERSION:2.0
PRODID:-//89.9 The Wave - ECPv4.6.26//NONSGML v1.0//EN
CALSCALE:GREGORIAN
METHOD:PUBLISH
X-WR-CALNAME:89.9 The Wave
X-ORIGINAL-URL:https://899thewave.fm
X-WR-CALDESC:Events for 89.9 The Wave
BEGIN:VEVENT
DTSTART;VALUE=DATE:20211016
DTEND;VALUE=DATE:20211017
DTSTAMP:20260419T125216
CREATED:20201014T123310Z
LAST-MODIFIED:20211013T133411Z
UID:13256-1634342400-1634428799@899thewave.fm
SUMMARY:GLOBAL CAT DAY
DESCRIPTION:Global Cat Day raises awareness surrounding non-lethal feline programs. More than any other shelter animal\, cats and kittens face euthanization at a much higher rate. \nPrograms such as trap\, neuter\, and release (TNR) are making it possible for cats to live full and healthy lives right in our neighborhoods. \nIf you’ve been thinking about it\, make today the day your family adopts a cat! \nAdoptions \n \n
URL:https://899thewave.fm/event/global-cat-day/
CATEGORIES:Observances
ATTACH;FMTTYPE=image/jpeg:https://899thewave.fm/wp-content/uploads/sites/4/2020/10/photo-1526336024174-e58f5cdd8e13.jpg
END:VEVENT
END:VCALENDAR