BEGIN:VCALENDAR
VERSION:2.0
PRODID:-//89.9 The Wave - ECPv4.6.26//NONSGML v1.0//EN
CALSCALE:GREGORIAN
METHOD:PUBLISH
X-WR-CALNAME:89.9 The Wave
X-ORIGINAL-URL:https://899thewave.fm
X-WR-CALDESC:Events for 89.9 The Wave
BEGIN:VEVENT
DTSTART;VALUE=DATE:20220430
DTEND;VALUE=DATE:20220501
DTSTAMP:20260424T022730
CREATED:20220407T124516Z
LAST-MODIFIED:20220407T124516Z
UID:16194-1651276800-1651363199@899thewave.fm
SUMMARY:HALIFAX POLAR PLUNGE
DESCRIPTION:The ever-popular Halifax Polar Plunge for Special Olympics Nova Scotia returns in- person \n\nPlunger On-site Registration/Check-In:\n\nSaturday\, April 30th\, 2022\nHalifax City Hall\, Grand Parade Square\, 1841 Argyle Street\nRegistration from 10:00 am – 11:00 am\nIf you miss check-in\, you cannot plunge\nYou will be given a plunger bracelet and plunge number\nAfter the plunge show your bracelet to receive your Polar Plunge Toque\n\n\nOpening Ceremonies:\n\nWill begin at 11:00 am with opening remarks\nAthletes Pledge\n\n\nTorch Run:\n\nWill begin at 11:30 am\nPlungers & on-lookers will follow members of the NSLETR to the plunge location\n\n\nThe Plunge:\n\nPlunges will begin at 12:00 pm at The Queen’s Marque\, 1715 Lower Water Street\n\n\nBYOT (Bring Your Own Towel)\n\nRaise over $300 for a FREE custom Polar Plunge towel!\n\n\nParking could be a challenge – please come early!\nCostumes are encouraged – The crazier the better!\n\n
URL:https://899thewave.fm/event/halifax-polar-plunge/
CATEGORIES:Charity Events,Community Events
ATTACH;FMTTYPE=image/png:https://899thewave.fm/wp-content/uploads/sites/4/2022/04/2022PP_hortz-300x126-1-e1649335453573.png
END:VEVENT
END:VCALENDAR