BEGIN:VCALENDAR
VERSION:2.0
PRODID:-//89.9 The Wave - ECPv4.6.26//NONSGML v1.0//EN
CALSCALE:GREGORIAN
METHOD:PUBLISH
X-WR-CALNAME:89.9 The Wave
X-ORIGINAL-URL:https://899thewave.fm
X-WR-CALDESC:Events for 89.9 The Wave
BEGIN:VEVENT
DTSTART;VALUE=DATE:20220730
DTEND;VALUE=DATE:20220731
DTSTAMP:20260424T021030
CREATED:20200727T123246Z
LAST-MODIFIED:20220627T125543Z
UID:12621-1659139200-1659225599@899thewave.fm
SUMMARY:Birthday - KATE BUSH (64)
DESCRIPTION:Catherine Bush CBE (born 30 July 1958) is an English singer\, dancer\, songwriter\, and record producer. \nBush began writing songs at 11. She was signed to EMI Records after Pink Floyd guitarist David Gilmour helped produce a demo tape. \nIn 1978\, aged 19\, she topped the UK Singles Chart for four weeks with her debut single “Wuthering Heights”\, becoming the first female artist to achieve a UK number one with a self-written song. \nShe has since released 25 UK Top 40 singles and all 10 of her studio albums reached the UK Top 10 \nShe has been nominated for 13 British Phonographic Industry accolades (winning for Best British Female Artist in 1987)\, and has been nominated for three Grammy Awards. \nIn 2002\, she was recognized with an Ivor Novello Award for Outstanding Contribution to British Music. \nIn October 2017 she was nominated for induction in the Rock and Roll Hall of Fame in 2018. \nBush was appointed Commander of the Order of the British Empire (CBE) in the 2013 New Year Honours for services to music. \n
URL:https://899thewave.fm/event/birthday-kate-bush-62/
CATEGORIES:Birthday
ATTACH;FMTTYPE=image/jpeg:https://899thewave.fm/wp-content/uploads/sites/4/2020/06/photo-1523757956233-94a86ff74ea5.jpg
END:VEVENT
END:VCALENDAR