BEGIN:VCALENDAR
VERSION:2.0
PRODID:-//89.9 The Wave - ECPv4.6.26//NONSGML v1.0//EN
CALSCALE:GREGORIAN
METHOD:PUBLISH
X-WR-CALNAME:89.9 The Wave
X-ORIGINAL-URL:https://899thewave.fm
X-WR-CALDESC:Events for 89.9 The Wave
BEGIN:VEVENT
DTSTART;VALUE=DATE:20220726
DTEND;VALUE=DATE:20220727
DTSTAMP:20260423T205735
CREATED:20200714T125929Z
LAST-MODIFIED:20220627T125431Z
UID:12508-1658793600-1658879999@899thewave.fm
SUMMARY:Birthday - MICK JAGGER (79)
DESCRIPTION:Sir Michael Philip Jagger (born 26 July 1943) is an English singer\, songwriter\, actor\, and film producer who gained worldwide fame as the lead singer and one of the founder members of the Rolling Stones. \nJagger’s career has spanned over five decades\, and he has been described as “one of the most popular and influential frontmen in the history of rock & roll”. \nIn 1989\, Jagger was inducted into the Rock and Roll Hall of Fame\, and in 2004 into the UK Music Hall of Fame with the Rolling Stones. \nAs a member of the Stones\, and as a solo artist\, he reached number one on the UK and US singles charts with 13 singles\, the Top 10 with 32 singles and the Top 40 with 70 singles. \nIn 2003\, he was knighted for his services to popular music. \nJagger has been married (and divorced) once\, and has also had several other relationships. Jagger has eight children with five women. He also has five grandchildren and became a great-grandfather on 19 May 2014\, when his granddaughter Assisi gave birth to daughter Ezra Key. \nJagger’s net worth has been estimated at $360 million. \n
URL:https://899thewave.fm/event/birthday-mick-jagger-77/
CATEGORIES:Birthday
ATTACH;FMTTYPE=image/jpeg:https://899thewave.fm/wp-content/uploads/sites/4/2020/06/photo-1523757956233-94a86ff74ea5.jpg
END:VEVENT
END:VCALENDAR