BEGIN:VCALENDAR
VERSION:2.0
PRODID:-//89.9 The Wave - ECPv4.6.26//NONSGML v1.0//EN
CALSCALE:GREGORIAN
METHOD:PUBLISH
X-WR-CALNAME:89.9 The Wave
X-ORIGINAL-URL:https://899thewave.fm
X-WR-CALDESC:Events for 89.9 The Wave
BEGIN:VEVENT
DTSTART;VALUE=DATE:20220713
DTEND;VALUE=DATE:20220714
DTSTAMP:20260421T050935
CREATED:20200710T120800Z
LAST-MODIFIED:20220627T125319Z
UID:12454-1657670400-1657756799@899thewave.fm
SUMMARY:Anniversary - LIVE AID
DESCRIPTION:Live Aid was a benefit concert held on Saturday 13 July 1985\, as well as an ongoing music-based fundraising initiative.\nThe original event was organised by Bob Geldof and Midge Ure to raise funds for relief of the ongoing Ethiopian famine.\nBilled as the “global jukebox”\, the event was held simultaneously at Wembley Stadium in London\, UK\, attended by about 72\,000 people\, and John F. Kennedy Stadium in Philadelphia\, US\, attended by exactly 89\,484 people.\n\n  \n
URL:https://899thewave.fm/event/live-aid-35th-anniversary/
CATEGORIES:Birthday,Concerts,Station Events
ATTACH;FMTTYPE=image/jpeg:https://899thewave.fm/wp-content/uploads/sites/4/2020/07/Live_Aid_at_JFK_Stadium_Philadelphia_PA.jpg
END:VEVENT
END:VCALENDAR