BEGIN:VCALENDAR
VERSION:2.0
PRODID:-//89.9 The Wave - ECPv4.6.26//NONSGML v1.0//EN
CALSCALE:GREGORIAN
METHOD:PUBLISH
X-WR-CALNAME:89.9 The Wave
X-ORIGINAL-URL:https://899thewave.fm
X-WR-CALDESC:Events for 89.9 The Wave
BEGIN:VEVENT
DTSTART;VALUE=DATE:20220710
DTEND;VALUE=DATE:20220711
DTSTAMP:20260421T011546
CREATED:20200709T131453Z
LAST-MODIFIED:20220627T125020Z
UID:12436-1657411200-1657497599@899thewave.fm
SUMMARY:Birthday - A. MURRAY MacKAY BRIDGE
DESCRIPTION:HAPPY 52nd BIRTHDAY! \nThe A. Murray MacKay Bridge\, known locally as “the new bridge”\, is a suspension bridge linking the Halifax Peninsula with Dartmouth\, Nova Scotia\, and opened on July 10\, 1970. \nIt is one of two suspension bridges crossing Halifax Harbour\, its counterpart\, the Angus L. Macdonald Bridge\, having been completed in 1955. \nThe bridge carries on average 52\,000 vehicle crossings per day\, and is part of Nova Scotia Highway 111. \n  \n
URL:https://899thewave.fm/event/birthday-a-murray-mackay-bridge/
CATEGORIES:Birthday,Observances
ATTACH;FMTTYPE=image/jpeg:https://899thewave.fm/wp-content/uploads/sites/4/2020/07/A._Murray_MacKay_Bridge.jpg
END:VEVENT
END:VCALENDAR