BEGIN:VCALENDAR
VERSION:2.0
PRODID:-//89.9 The Wave - ECPv4.6.26//NONSGML v1.0//EN
CALSCALE:GREGORIAN
METHOD:PUBLISH
X-WR-CALNAME:89.9 The Wave
X-ORIGINAL-URL:https://899thewave.fm
X-WR-CALDESC:Events for 89.9 The Wave
BEGIN:VEVENT
DTSTART;VALUE=DATE:20220623
DTEND;VALUE=DATE:20220624
DTSTAMP:20260420T033511
CREATED:20200619T163428Z
LAST-MODIFIED:20220622T212327Z
UID:12307-1655942400-1656028799@899thewave.fm
SUMMARY:Birthday - MYLES GOODWYN (74)
DESCRIPTION:Myles Francis Goodwyn (born Miles Francis Goodwin\, June 23\, 1948) is a Canadian record producer\, guitarist\, lead vocalist\, main songwriter\, and founding member of the veteran Nova Scotia band April Wine.\nHe penned virtually every April Wine song. \nFollowing the band’s peak years during the 1970s and early 1980s\, Goodwyn disbanded the group to pursue a solo career. \nAfter a brief relocation to the Bahamas\, Goodwyn returned to Canada and reformed April Wine in 1992. \nHe continues to lead the band to the present day. \nIn 2002\, Goodwyn was the recipient of the National Achievement Award at the annual SOCAN Awards held in Toronto. \nIn January 2003 Goodwyn received an ECMA Lifetime Achievement Award for his impact on the music industry of Atlantic Canada \n  \n
URL:https://899thewave.fm/event/birthday-myles-goodwyn-72/
CATEGORIES:Birthday
ATTACH;FMTTYPE=image/jpeg:https://899thewave.fm/wp-content/uploads/sites/4/2020/06/photo-1523757956233-94a86ff74ea5.jpg
END:VEVENT
END:VCALENDAR