BEGIN:VCALENDAR
VERSION:2.0
PRODID:-//89.9 The Wave - ECPv4.6.26//NONSGML v1.0//EN
CALSCALE:GREGORIAN
METHOD:PUBLISH
X-WR-CALNAME:89.9 The Wave
X-ORIGINAL-URL:https://899thewave.fm
X-WR-CALDESC:Events for 89.9 The Wave
BEGIN:VEVENT
DTSTART;VALUE=DATE:20190806
DTEND;VALUE=DATE:20190811
DTSTAMP:20260425T203541
CREATED:20190806T170007Z
LAST-MODIFIED:20190806T170007Z
UID:9872-1565049600-1565481599@899thewave.fm
SUMMARY:Closures for the Macdonald Bridge
DESCRIPTION:The following are the scheduled closures for the Macdonald Bridge to replace an approach span bearing and an expansion joint on the Dartmouth side of the bridge. \n\n7:00pm to 5:30am Tuesday Aug 06 – bike lane will be closed. Cyclists will be directed to use the sidewalk\n7:00pm to 5:30am Wednesday Aug 07 – sidewalk will be closed. Walkers will be directed to use the bike lane\n7:00pm to 5:30am Thursday Aug 08. FULL bridge closure including sidewalk and bike lane. Shuttle service provided*\n7:00pm Friday\, August 9 to 9pm Saturday\, August 10. FULL bridge closure. Sidewalk and bike lane will be open.\n\n
URL:https://899thewave.fm/event/closures-for-the-macdonald-bridge/
END:VEVENT
BEGIN:VEVENT
DTSTART;VALUE=DATE:20190809
DTEND;VALUE=DATE:20190810
DTSTAMP:20260425T203541
CREATED:20190604T001705Z
LAST-MODIFIED:20190604T001705Z
UID:9153-1565308800-1565395199@899thewave.fm
SUMMARY:Amy Helm Live
DESCRIPTION:Fri.\, Aug. 9\, 9 p.m. \nThe Carleton\n\n1685 Argyle Street\n\nAmy Helm is the daughter of The Band’s legendary drummer and singer Levon Helm and singer/songwriter Libby Titus. \n
URL:https://899thewave.fm/event/amy-helm-live/
END:VEVENT
BEGIN:VEVENT
DTSTART;VALUE=DATE:20190809
DTEND;VALUE=DATE:20190810
DTSTAMP:20260425T203541
CREATED:20190715T005620Z
LAST-MODIFIED:20190715T005620Z
UID:9698-1565308800-1565395199@899thewave.fm
SUMMARY:Blinded By The Light: Original Motion Picture Soundtrack
DESCRIPTION:Sony Music Entertainment\, will release Blinded By The Light: Original Motion Picture Soundtrack (digital and CD configurations) on Friday\, August 9. \nBlinded By The Light: Original Motion Picture Soundtrack brings together 12 essential Bruce Springsteen performances ranging from greatest hits and fan favorites (“Born To Run\,” “Dancing In The Dark\,” “Hungry Heart\,” “Because The Night”) to previously unreleased tracks\, including the long-sought-after studio recording of “I’ll Stand By You.” Also\, for the first time on album\, Blinded By The Light: Original Motion Picture Soundtrack presents two live rarities: the debut live performance of “The River” (from No Nukes ’79 – Madison Square Garden\, NYC – September 21\, 1979) and an unforgettable acoustic solo performance of “The Promised Land” (Concert for Valor – The National Mall\, Washington DC\, November 11\, 2014). \n2LP 12″ vinyl configurations of Blinded By The Light: Original Motion Picture Soundtrack will be available Friday\, August 30 with Barnes & Noble offering an exclusive 2LP 12″ orange vinyl edition of the album. \n
URL:https://899thewave.fm/event/blinded-by-the-light-original-motion-picture-soundtrack/
END:VEVENT
BEGIN:VEVENT
DTSTART;VALUE=DATE:20190809
DTEND;VALUE=DATE:20190810
DTSTAMP:20260425T203541
CREATED:20190806T230053Z
LAST-MODIFIED:20190806T230053Z
UID:9883-1565308800-1565395199@899thewave.fm
SUMMARY:North by Night Market
DESCRIPTION:Aug 9 (Free event)\n7 pm-10 pm \nA pop-up style block party with food\, music\, artisanal goods and lots of North End flair. DJ Dance Party\, Good Eats\, Vintage Finds\, Local Artisans and an all around good time! \nSupport your local economy and get to know your community better- North by Night Market is the perfect opportunity to kick off Halifax’s fantastic summer season. \nMake the market part of your Friday night and check out one of the North End’s great restaurants\, bars and patios before heading over to the Market. While you shop and enjoy the atmosphere of Halifax’s North End\, make sure take plenty of pics and to hashtag #NXNMRKT! \n2050 Gottingen Street\nHalifax\, Nova Scotia \n
URL:https://899thewave.fm/event/north-by-night-market/
END:VEVENT
END:VCALENDAR