BEGIN:VCALENDAR
VERSION:2.0
PRODID:-//89.9 The Wave - ECPv4.6.26//NONSGML v1.0//EN
CALSCALE:GREGORIAN
METHOD:PUBLISH
X-WR-CALNAME:89.9 The Wave
X-ORIGINAL-URL:https://899thewave.fm
X-WR-CALDESC:Events for 89.9 The Wave
BEGIN:VEVENT
DTSTART;VALUE=DATE:20190806
DTEND;VALUE=DATE:20190811
DTSTAMP:20260425T175516
CREATED:20190806T170007Z
LAST-MODIFIED:20190806T170007Z
UID:9872-1565049600-1565481599@899thewave.fm
SUMMARY:Closures for the Macdonald Bridge
DESCRIPTION:The following are the scheduled closures for the Macdonald Bridge to replace an approach span bearing and an expansion joint on the Dartmouth side of the bridge. \n\n7:00pm to 5:30am Tuesday Aug 06 – bike lane will be closed. Cyclists will be directed to use the sidewalk\n7:00pm to 5:30am Wednesday Aug 07 – sidewalk will be closed. Walkers will be directed to use the bike lane\n7:00pm to 5:30am Thursday Aug 08. FULL bridge closure including sidewalk and bike lane. Shuttle service provided*\n7:00pm Friday\, August 9 to 9pm Saturday\, August 10. FULL bridge closure. Sidewalk and bike lane will be open.\n\n
URL:https://899thewave.fm/event/closures-for-the-macdonald-bridge/
END:VEVENT
BEGIN:VEVENT
DTSTART;VALUE=DATE:20190807
DTEND;VALUE=DATE:20190808
DTSTAMP:20260425T175516
CREATED:20190502T160910Z
LAST-MODIFIED:20190526T231815Z
UID:8575-1565136000-1565222399@899thewave.fm
SUMMARY:Sidney Crosby's birthday
DESCRIPTION:Born : August 7\, 1987 in Cole Harbour\, Nova Scotia. Crosby has made uniform No. 87 famous (he was born on 8-7-87)\, but he’s not the only NHL player to wear it. Donald Brashear (2001-10)\, Pierre Turgeon (2005-07)\, David Musil (2014-15) and Liam O’Brien (2014-17) have also worn No. 87. At 21 years\, 10 months and five days old\, Crosby became the youngest captain in NHL history to lead his team to the Stanley Cup when the Penguins defeated the Detroit Red Wings in seven games in 2009. He went onto the ice to receive the Cup after Pittsburgh’s 2-1 victory in Game 7 after missing most of the third period with a knee injury. Though he’s scored 100- or more points in a season five times\, Crosby’s lone 50-goal season came in 2009-10\, when he led the NHL with 51. On June 28\, 2012\, he and the Penguins agreed to terms on a 12-year contract extension through the 2024-25 season. The average annual value: $8.7 million. \n
URL:https://899thewave.fm/event/sidney-crosbys-birthday/
END:VEVENT
BEGIN:VEVENT
DTSTART;VALUE=DATE:20190807
DTEND;VALUE=DATE:20190808
DTSTAMP:20260425T175516
CREATED:20190514T175608Z
LAST-MODIFIED:20190514T175608Z
UID:8790-1565136000-1565222399@899thewave.fm
SUMMARY:Beverly Hills 90210 reboot
DESCRIPTION:BH90210 : 10 pm : Fox TV : August 7th. \nReturning with a brand-new look\, the gang is all here for the six-part Fox reboot BH90210: Jason Priestley\, Jennie Garth\, Shannen Doherty\, Brian Austin Green\, Tori Spelling\, Ian Ziering and Gabrielle Carteris. \nBeverly Hills\, 90210 ran from 1990 to 2000 on Fox and was a defining show of the era. It spawned two other spinoff series\, Melrose Place and the short-lived Models\, Inc. \n  \n
URL:https://899thewave.fm/event/beverly-hills-90210-reboot/
END:VEVENT
BEGIN:VEVENT
DTSTART;VALUE=DATE:20190807
DTEND;VALUE=DATE:20190808
DTSTAMP:20260425T175516
CREATED:20190608T204201Z
LAST-MODIFIED:20190608T204201Z
UID:9294-1565136000-1565222399@899thewave.fm
SUMMARY:National Lighthouse Day
DESCRIPTION:19 Interesting Facts About Sambro Lighthouse\n\nOldest functioning lighthouse in the Americas\nWatches over second-largest ice-free harbour in the world\nRuns on solar power\nCalled the “Canadian Statue of Liberty”\nWas the leaning tower of Sambro\nBuilt of stone covered with wood\nWas powered by fish oil\nGained 22 feet in 1906\nLens came from Paris\nStripes added for visibility in snow\nFirst fog signal was by cannon\nKept by lighthouse keepers up to 1988\nWas a backdrop for popular commercials\nIs a federal heritage building and national historic site\nReceived a 1.3 million dollar repair job in 2016\nTours are offered once a year\nHas its own silver coin\nIs a famous round the world departure spot\nHas its own stamp\n\n \n
URL:https://899thewave.fm/event/national-lighthouse-day/
END:VEVENT
END:VCALENDAR