BEGIN:VCALENDAR
VERSION:2.0
PRODID:-//89.9 The Wave - ECPv4.6.26//NONSGML v1.0//EN
CALSCALE:GREGORIAN
METHOD:PUBLISH
X-WR-CALNAME:89.9 The Wave
X-ORIGINAL-URL:https://899thewave.fm
X-WR-CALDESC:Events for 89.9 The Wave
BEGIN:VEVENT
DTSTART;VALUE=DATE:20190731
DTEND;VALUE=DATE:20190806
DTSTAMP:20260425T145710
CREATED:20190408T185338Z
LAST-MODIFIED:20190409T173532Z
UID:8238-1564531200-1565049599@899thewave.fm
SUMMARY:Halifax Busker Festival
DESCRIPTION:
URL:https://899thewave.fm/event/halifax-busker-festival/
END:VEVENT
BEGIN:VEVENT
DTSTART;VALUE=DATE:20190802
DTEND;VALUE=DATE:20190806
DTSTAMP:20260425T145710
CREATED:20190502T220539Z
LAST-MODIFIED:20190502T220539Z
UID:8586-1564704000-1565049599@899thewave.fm
SUMMARY:Halifax-Dartmouth Natal Day
DESCRIPTION:August 2- August 5 \nCelebrating the city’s 124th Natal Day (1895 – 2019)\, the Halifax-Dartmouth Natal Day Festival runs from Friday\, August 2nd until Monday\, August 5th\, 2019. \nA total of 30 individual events include; family activities\, live music\, road races\, entertainment showcase\, comedy night\, busker performances\, the Mayor & Council Garden Party in both Halifax & Dartmouth and one of the oldest parades in Atlantic Canada. In addition\, we hold three spectacular fireworks shows throughout the weekend; from a barge in Halifax Harbour on August 3rd\, at the Halifax Common on August 4th and at Lake Banook on August 5th. \nCreated with a commitment to provide low cost/no cost activities wherever possible\, there’s something special planned for every age. \n
URL:https://899thewave.fm/event/halifax-dartmouth-natal-day/
END:VEVENT
BEGIN:VEVENT
DTSTART;VALUE=DATE:20190805
DTEND;VALUE=DATE:20190806
DTSTAMP:20260425T145710
CREATED:20190502T111302Z
LAST-MODIFIED:20190502T111302Z
UID:8529-1564963200-1565049599@899thewave.fm
SUMMARY:Natal Day
DESCRIPTION:
URL:https://899thewave.fm/event/natal-day/
END:VEVENT
BEGIN:VEVENT
DTSTART;VALUE=DATE:20190805
DTEND;VALUE=DATE:20190806
DTSTAMP:20260425T145710
CREATED:20190502T152001Z
LAST-MODIFIED:20190502T152001Z
UID:8561-1564963200-1565049599@899thewave.fm
SUMMARY:The Class of 1985
DESCRIPTION:The Class of 1985 (encore broadcast) \nAugust 5 \nAll your favorites from 1985 \nNoon-6 pm on 89 9 The Wave \n
URL:https://899thewave.fm/event/the-class-of-1985-2/
END:VEVENT
BEGIN:VEVENT
DTSTART;VALUE=DATE:20190805
DTEND;VALUE=DATE:20190806
DTSTAMP:20260425T145710
CREATED:20190513T192246Z
LAST-MODIFIED:20190513T192246Z
UID:8767-1564963200-1565049599@899thewave.fm
SUMMARY:The film Risky Business is released
DESCRIPTION:Released : August 5\, 1983. \nThe film stars Tom Cruise. \nOn the first night\, he raids the liquor cabinet\, plays the stereo loudly\, and dances around the living room in his underwear and pink dress shirt to “Old Time Rock and Roll“. \n
URL:https://899thewave.fm/event/the-film-risky-business-is-released/
END:VEVENT
BEGIN:VEVENT
DTSTART;VALUE=DATE:20190805
DTEND;VALUE=DATE:20190806
DTSTAMP:20260425T145710
CREATED:20190725T214528Z
LAST-MODIFIED:20190725T214528Z
UID:9803-1564963200-1565049599@899thewave.fm
SUMMARY:Dingle Beach Party
DESCRIPTION:12th Annual Dingle Natal Day Beach Party\nMonday\, August 5\, 2019\n1 – 4 p.m.\nThe Dingle\, Fleming Park\nFree beach party with live music\, games and activities – rain or shine! \nJoin us for DJ music\, bouncy castles\, a mermaid show\, and live cirques show by Atlantic Cirque. Plus\, a special visit from Elmo and Cookie Monster! \n
URL:https://899thewave.fm/event/dingle-beach-party/
END:VEVENT
END:VCALENDAR