BEGIN:VCALENDAR
VERSION:2.0
PRODID:-//89.9 The Wave - ECPv4.6.26//NONSGML v1.0//EN
CALSCALE:GREGORIAN
METHOD:PUBLISH
X-WR-CALNAME:89.9 The Wave
X-ORIGINAL-URL:https://899thewave.fm
X-WR-CALDESC:Events for 89.9 The Wave
BEGIN:VEVENT
DTSTART;VALUE=DATE:20190730
DTEND;VALUE=DATE:20190731
DTSTAMP:20260423T095342
CREATED:20190702T174750Z
LAST-MODIFIED:20190702T174750Z
UID:9562-1564444800-1564531199@899thewave.fm
SUMMARY:Paul Anka is one year older
DESCRIPTION:Born July 30\, 1941 in Ottawa\, Ontario. \nSongwriter and actor. Anka became famous with hit songs like “Diana“\, “Lonely Boy“\, “Put Your Head on My Shoulder“\, and “(You’re) Having My Baby“. He wrote such well-known music as the theme for The Tonight Show Starring Johnny Carsonand one of Tom Jones‘s biggest hits\, “She’s a Lady“. He also wrote the English lyrics to Claude François and Jacques Revaux‘s music for Frank Sinatra‘s signature song\, “My Way“\, which has been covered by many\, including Elvis Presley. \nAnka was inducted into Canada’s Walk of Fame in 2005. \n
URL:https://899thewave.fm/event/paul-anka-is-one-year-older/
END:VEVENT
END:VCALENDAR