BEGIN:VCALENDAR
VERSION:2.0
PRODID:-//89.9 The Wave - ECPv4.6.26//NONSGML v1.0//EN
CALSCALE:GREGORIAN
METHOD:PUBLISH
X-WR-CALNAME:89.9 The Wave
X-ORIGINAL-URL:https://899thewave.fm
X-WR-CALDESC:Events for 89.9 The Wave
BEGIN:VEVENT
DTSTART;VALUE=DATE:20190718
DTEND;VALUE=DATE:20190729
DTSTAMP:20260421T050457
CREATED:20190408T185310Z
LAST-MODIFIED:20190408T185310Z
UID:8236-1563408000-1564358399@899thewave.fm
SUMMARY:Halifax Pride Festival
DESCRIPTION:
URL:https://899thewave.fm/event/halifax-pride-festival/
END:VEVENT
BEGIN:VEVENT
DTSTART;VALUE=DATE:20190725
DTEND;VALUE=DATE:20190729
DTSTAMP:20260421T050457
CREATED:20190604T000855Z
LAST-MODIFIED:20190604T000855Z
UID:9151-1564012800-1564358399@899thewave.fm
SUMMARY:Stan Rogers Folk Festival
DESCRIPTION:July 25-28\, 2019. \nCanso\, Cape Breton. \nSuzanne Vega\, Bruce Guthro\, Dave Gunning\, Jeremy Dutcher\, Garrett Mason and more. \nPHONE: 1 (888) 554-7826. \n  \n
URL:https://899thewave.fm/event/stan-rogers-folk-festival/
END:VEVENT
BEGIN:VEVENT
DTSTART;VALUE=DATE:20190726
DTEND;VALUE=DATE:20190729
DTSTAMP:20260421T050457
CREATED:20190723T010535Z
LAST-MODIFIED:20190723T010535Z
UID:9760-1564099200-1564358399@899thewave.fm
SUMMARY:Huge vintage show on Barrington Street
DESCRIPTION:Friday night VIP Shopping Event where you get a complimentary cocktail made by The Middle Spoon and you also get to shop the 35 local vintage sellers before the general public!! We will also have an incredible silent auction and vintage hairstyles done by The Vintage Hairdresser. Tickets are here: https://curiosummervip.eventbrite.ca\nThe show runs Saturday from 10-6 and Sunday from 10-4 with $2 admission at 1566 Barrington St (same location as the last one!) The first 25 people in line each day will get $5 in Curio Cash as well as another special treat from a local business! \n
URL:https://899thewave.fm/event/huge-vintage-show-on-barrington-street/
END:VEVENT
BEGIN:VEVENT
DTSTART;VALUE=DATE:20190727
DTEND;VALUE=DATE:20190728
DTSTAMP:20260421T050457
CREATED:20190527T010037Z
LAST-MODIFIED:20190527T010037Z
UID:8985-1564185600-1564271999@899thewave.fm
SUMMARY:Forest Heights Class of '94 Reunion
DESCRIPTION:Alexander Keith’s \n1496 Lower Water Street \nHalifax \nSat\, July 27\, 2019 \n7:00 PM – 9:00 PM \nLet’s party like it’s 1994! It’s been 25 years so let’s gather for a fun brewery tour and some food. The price of this ticket gets you all you can drink a tour of Keith’s and lots of great snacks. \n
URL:https://899thewave.fm/event/forest-heights-class-of-94-reunion/
END:VEVENT
BEGIN:VEVENT
DTSTART;VALUE=DATE:20190727
DTEND;VALUE=DATE:20190728
DTSTAMP:20260421T050457
CREATED:20190723T191805Z
LAST-MODIFIED:20190723T191805Z
UID:9770-1564185600-1564271999@899thewave.fm
SUMMARY:The Jordan Boyd Celebrity Hockey Challenge
DESCRIPTION:The Jordan Boyd Celebrity Hockey Challenge \nJuly 27 @ The Dartmouth RBC 4-Pad \nFirst game @ 9 am \nLast game @ 6 pm \nBrad Marchand….Luke Henman….Morgan Barron….Shane Bowers….Logan Shaw….Jill Saulnier….Drake Batherson and more will take part. \n
URL:https://899thewave.fm/event/the-jordan-boyd-celebrity-hockey-challenge/
END:VEVENT
BEGIN:VEVENT
DTSTART;VALUE=DATE:20190727
DTEND;VALUE=DATE:20190728
DTSTAMP:20260421T050457
CREATED:20190725T212929Z
LAST-MODIFIED:20190725T212929Z
UID:9801-1564185600-1564271999@899thewave.fm
SUMMARY:Star Wars: Episode V The Empire Strikes Back at the Chickenburger
DESCRIPTION:The Chickenburger : Happening this Saturday! Star Wars: Episode V The Empire Strikes Back is on deck for our next outdoor movie! Movie starts at dusk (8:45ish)\, bring your own lawn chair or blanket! \n
URL:https://899thewave.fm/event/star-wars-episode-v-the-empire-strikes-back-at-the-chickenburger/
END:VEVENT
END:VCALENDAR