BEGIN:VCALENDAR
VERSION:2.0
PRODID:-//89.9 The Wave - ECPv4.6.26//NONSGML v1.0//EN
CALSCALE:GREGORIAN
METHOD:PUBLISH
X-WR-CALNAME:89.9 The Wave
X-ORIGINAL-URL:https://899thewave.fm
X-WR-CALDESC:Events for 89.9 The Wave
BEGIN:VEVENT
DTSTART;VALUE=DATE:20190718
DTEND;VALUE=DATE:20190729
DTSTAMP:20260421T035927
CREATED:20190408T185310Z
LAST-MODIFIED:20190408T185310Z
UID:8236-1563408000-1564358399@899thewave.fm
SUMMARY:Halifax Pride Festival
DESCRIPTION:
URL:https://899thewave.fm/event/halifax-pride-festival/
END:VEVENT
BEGIN:VEVENT
DTSTART;VALUE=DATE:20190725
DTEND;VALUE=DATE:20190729
DTSTAMP:20260421T035927
CREATED:20190604T000855Z
LAST-MODIFIED:20190604T000855Z
UID:9151-1564012800-1564358399@899thewave.fm
SUMMARY:Stan Rogers Folk Festival
DESCRIPTION:July 25-28\, 2019. \nCanso\, Cape Breton. \nSuzanne Vega\, Bruce Guthro\, Dave Gunning\, Jeremy Dutcher\, Garrett Mason and more. \nPHONE: 1 (888) 554-7826. \n  \n
URL:https://899thewave.fm/event/stan-rogers-folk-festival/
END:VEVENT
BEGIN:VEVENT
DTSTART;VALUE=DATE:20190726
DTEND;VALUE=DATE:20190727
DTSTAMP:20260421T035927
CREATED:20190502T155209Z
LAST-MODIFIED:20190716T161119Z
UID:8573-1564099200-1564185599@899thewave.fm
SUMMARY:Mick Jagger's birthday
DESCRIPTION:Born : July 26\, 1943 in Dartford\, Kent\, England. \nHis father and grandfather were both teachers. \n89.9 The Wave will celebrate Mick’s birthday with an hour of Rolling Stones and Mick’s solo work tonight @ 9 . \n
URL:https://899thewave.fm/event/mick-jaggers-birthday/
END:VEVENT
BEGIN:VEVENT
DTSTART;VALUE=DATE:20190726
DTEND;VALUE=DATE:20190727
DTSTAMP:20260421T035927
CREATED:20190527T011555Z
LAST-MODIFIED:20190527T011555Z
UID:8989-1564099200-1564185599@899thewave.fm
SUMMARY:Women's Stand Up Paddle Boarding Trip
DESCRIPTION:Fri\, Jul 26\, 9:30 am \nSt Margarets Bay \nTodd’s Island \nLower Prospect \nThis paddle boarding event is open to women wanting to leave everything behind\, get out on the water\, escape and then find a new place of balance while paddling along some of Canada’s most beautiful coastline. Our trip will include an introductory warm-up\, safety and set up guidance\, basic skills instructions\, a paddle along the coast\, a stop at a private beach for a snack\, and if the waves and water play nice ~ maybe even a little yoga session and a swim for the brave before we head back. \n
URL:https://899thewave.fm/event/womens-stand-up-paddle-boarding-trip/
END:VEVENT
BEGIN:VEVENT
DTSTART;VALUE=DATE:20190726
DTEND;VALUE=DATE:20190727
DTSTAMP:20260421T035927
CREATED:20190605T000820Z
LAST-MODIFIED:20190605T000820Z
UID:9190-1564099200-1564185599@899thewave.fm
SUMMARY:Queen Elizabeth and Queen Mary 2 docked in Halifax
DESCRIPTION:On July 26\, Halifax will have the Queen Elizabeth and Queen Mary 2 docked in Halifax. \n
URL:https://899thewave.fm/event/queen-elizabeth-and-queen-mary-2-docked-in-halifax/
END:VEVENT
BEGIN:VEVENT
DTSTART;VALUE=DATE:20190726
DTEND;VALUE=DATE:20190727
DTSTAMP:20260421T035927
CREATED:20190606T215317Z
LAST-MODIFIED:20190606T215317Z
UID:9227-1564099200-1564185599@899thewave.fm
SUMMARY:The FIN Outdoor summer movie series
DESCRIPTION:Halifax’s Public Gardens. \nAttendees will be encouraged to bring blankets and chairs\, and concessions will be available on site. All films start at dusk and gates open an hour prior to screenings. \nFriday\, July 26: Bohemian Rhapsody\, 2018\, 134min \n
URL:https://899thewave.fm/event/the-fin-outdoor-summer-movie-series-4/
END:VEVENT
BEGIN:VEVENT
DTSTART;VALUE=DATE:20190726
DTEND;VALUE=DATE:20190729
DTSTAMP:20260421T035927
CREATED:20190723T010535Z
LAST-MODIFIED:20190723T010535Z
UID:9760-1564099200-1564358399@899thewave.fm
SUMMARY:Huge vintage show on Barrington Street
DESCRIPTION:Friday night VIP Shopping Event where you get a complimentary cocktail made by The Middle Spoon and you also get to shop the 35 local vintage sellers before the general public!! We will also have an incredible silent auction and vintage hairstyles done by The Vintage Hairdresser. Tickets are here: https://curiosummervip.eventbrite.ca\nThe show runs Saturday from 10-6 and Sunday from 10-4 with $2 admission at 1566 Barrington St (same location as the last one!) The first 25 people in line each day will get $5 in Curio Cash as well as another special treat from a local business! \n
URL:https://899thewave.fm/event/huge-vintage-show-on-barrington-street/
END:VEVENT
END:VCALENDAR