BEGIN:VCALENDAR
VERSION:2.0
PRODID:-//89.9 The Wave - ECPv4.6.26//NONSGML v1.0//EN
CALSCALE:GREGORIAN
METHOD:PUBLISH
X-WR-CALNAME:89.9 The Wave
X-ORIGINAL-URL:https://899thewave.fm
X-WR-CALDESC:Events for 89.9 The Wave
BEGIN:VEVENT
DTSTART;VALUE=DATE:20190718
DTEND;VALUE=DATE:20190729
DTSTAMP:20260420T163250
CREATED:20190408T185310Z
LAST-MODIFIED:20190408T185310Z
UID:8236-1563408000-1564358399@899thewave.fm
SUMMARY:Halifax Pride Festival
DESCRIPTION:
URL:https://899thewave.fm/event/halifax-pride-festival/
END:VEVENT
BEGIN:VEVENT
DTSTART;VALUE=DATE:20190720
DTEND;VALUE=DATE:20190721
DTSTAMP:20260420T163250
CREATED:20190501T190110Z
LAST-MODIFIED:20190718T173520Z
UID:8476-1563580800-1563667199@899thewave.fm
SUMMARY:Halifax Pride Parade
DESCRIPTION:The Halifax Pride Parade will take to the streets of the downtown core Saturday\, July 20. \nStarting late Friday night\, parking will not be allowed along the parade route. Special event ‘no parking’ signs will be installed and bags will be placed over parking meters. \nAs of noon Saturday\, the roads being used for the parade route will close to vehicular traffic. \nThe parade will start at the Halifax Dockyard on Upper Water Street at 1 p.m. It will head down Barrington Street\, make a right onto Spring Garden\, head up South Park Street to Bell Road where it will end at the Garrison Grounds along Ahern Avenue. \nSeveral Halifax Transit routes will be detoured around the closures during the parade and for the Rainbow Run. Specific information can be found online. \nThe Alderney ferry will be running every 15 minutes from 10 a.m. to 4:45 p.m. \nAll the affected streets are expected to reopen to traffic and parking by 4 p.m. Saturday. \n
URL:https://899thewave.fm/event/halifax-pride-parade/
END:VEVENT
BEGIN:VEVENT
DTSTART;VALUE=DATE:20190720
DTEND;VALUE=DATE:20190721
DTSTAMP:20260420T163250
CREATED:20190617T180640Z
LAST-MODIFIED:20190617T180640Z
UID:9387-1563580800-1563667199@899thewave.fm
SUMMARY:Movie Night Under the Stars: The Goonies
DESCRIPTION:The Chickenburger. \nSaturday\, July 20\, 2019 at 8:45 PM – 11:45 PM. \nThe Goonies. \nFREE event! \n
URL:https://899thewave.fm/event/movie-night-under-the-stars-the-goonies/
END:VEVENT
BEGIN:VEVENT
DTSTART;VALUE=DATE:20190720
DTEND;VALUE=DATE:20190721
DTSTAMP:20260420T163250
CREATED:20190716T000451Z
LAST-MODIFIED:20190716T000714Z
UID:9708-1563580800-1563667199@899thewave.fm
SUMMARY:SPH &  QEH: It’s A 90’s Reunion!
DESCRIPTION:Rail Birds Billiards and Lounge\n\n3200 Kempt Road (Suite 103) Halifax\n\nSaturday July 20 starting @ noon\n\n\n
URL:https://899thewave.fm/event/sph-qeh-its-a-90s-reunion/
END:VEVENT
BEGIN:VEVENT
DTSTART;VALUE=DATE:20190720
DTEND;VALUE=DATE:20190721
DTSTAMP:20260420T163250
CREATED:20190716T180240Z
LAST-MODIFIED:20190716T180240Z
UID:9728-1563580800-1563667199@899thewave.fm
SUMMARY:Apollo 11 documentary at SMU
DESCRIPTION:On July 20\, 1969\, Neil Armstrong took “one small step for man\, one giant leap for mankind.” \nSaint Mary’s University’s will be marking the 50th anniversary of this historic event by showing a special viewing of the Apollo 11 documentary. \nSMU’s showing of Apollo 11 goes Saturday at the Scotiabank Conference Theatre in the Sobey School of Business building. It’s free and doors open at 7:30 p.m.\, with the film starting at 7:45 p.m. \nSource : Halifax Today \n  \n
URL:https://899thewave.fm/event/apollo-11-documentary-at-smu/
END:VEVENT
BEGIN:VEVENT
DTSTART;VALUE=DATE:20190720
DTEND;VALUE=DATE:20190721
DTSTAMP:20260420T163250
CREATED:20190718T214321Z
LAST-MODIFIED:20190718T214321Z
UID:9749-1563580800-1563667199@899thewave.fm
SUMMARY:North Preston Days
DESCRIPTION:Residents are invited to the grand opening of the North Preston Community Centre Basketball Court this Saturday\, July 20 in North Preston. \nThe opening\, which will coincide with the annual North Preston Days event will feature planned activities including exhibition games\, a T-shirt giveaway and refreshments.  Representatives from McDonalds Canada\, the Halifax Regional Municipality\, and the Government of Canada will be providing remarks\, along with Shaquille Smith who spearheaded the community-based effort to establish the new basketball court. \nGrand Opening Event:\nWhen: Saturday\, July 20 from 6 to 7 p.m.\nWhere: 44 Simmonds Road\, North Preston \n
URL:https://899thewave.fm/event/north-preston-days/
END:VEVENT
END:VCALENDAR