BEGIN:VCALENDAR
VERSION:2.0
PRODID:-//89.9 The Wave - ECPv4.6.26//NONSGML v1.0//EN
CALSCALE:GREGORIAN
METHOD:PUBLISH
X-WR-CALNAME:89.9 The Wave
X-ORIGINAL-URL:https://899thewave.fm
X-WR-CALDESC:Events for 89.9 The Wave
BEGIN:VEVENT
DTSTART;VALUE=DATE:20190718
DTEND;VALUE=DATE:20190729
DTSTAMP:20260420T151434
CREATED:20190408T185310Z
LAST-MODIFIED:20190408T185310Z
UID:8236-1563408000-1564358399@899thewave.fm
SUMMARY:Halifax Pride Festival
DESCRIPTION:
URL:https://899thewave.fm/event/halifax-pride-festival/
END:VEVENT
BEGIN:VEVENT
DTSTART;VALUE=DATE:20190719
DTEND;VALUE=DATE:20190720
DTSTAMP:20260420T151434
CREATED:20190510T113834Z
LAST-MODIFIED:20190510T113834Z
UID:8708-1563494400-1563580799@899thewave.fm
SUMMARY:New Eddie Money album out today
DESCRIPTION:July 19th \nEddie Money will release his first new album in over 10 years today. Brand New Day \nis an album that Eddie says ‘I put everything I had into this one’. \n
URL:https://899thewave.fm/event/new-eddie-money-album-out-today/
END:VEVENT
BEGIN:VEVENT
DTSTART;VALUE=DATE:20190719
DTEND;VALUE=DATE:20190720
DTSTAMP:20260420T151434
CREATED:20190606T215145Z
LAST-MODIFIED:20190606T215145Z
UID:9225-1563494400-1563580799@899thewave.fm
SUMMARY:The FIN Outdoor summer movie series
DESCRIPTION:Halifax’s Public Gardens. \nAttendees will be encouraged to bring blankets and chairs\, and concessions will be available on site. All films start at dusk and gates open an hour prior to screenings. \nFriday\, July 19: The Rocky Horror Picture Show\,1975\, 100min \n  \n
URL:https://899thewave.fm/event/the-fin-outdoor-summer-movie-series-3/
END:VEVENT
BEGIN:VEVENT
DTSTART;VALUE=DATE:20190719
DTEND;VALUE=DATE:20190720
DTSTAMP:20260420T151434
CREATED:20190703T000107Z
LAST-MODIFIED:20190703T000107Z
UID:9587-1563494400-1563580799@899thewave.fm
SUMMARY:New package from James Taylor
DESCRIPTION:James Taylor- The Warner Brothers album (1970-1976) Released July 19. \nAvailable on CD and vinyl. THE COMPLETE WARNER BROS. ALBUMS: 1970-1976 includes: Sweet Baby James (1970)\, Mud Slide Slim and the Blue Horizon (1971)\, One Man Dog (1972)\, Walking Man (1974)\, Gorilla (1975)\, and In the Pocket (1976). \nEach album in the set has been remastered\, a process overseen by Peter Asher\, who signed Taylor to the Beatles’ Apple Records label in 1968\, worked as his manager for 25 years\, and originally produced several of these albums. \n
URL:https://899thewave.fm/event/new-package-from-james-taylor/
END:VEVENT
BEGIN:VEVENT
DTSTART;VALUE=DATE:20190719
DTEND;VALUE=DATE:20190720
DTSTAMP:20260420T151434
CREATED:20190717T165227Z
LAST-MODIFIED:20190717T165227Z
UID:9733-1563494400-1563580799@899thewave.fm
SUMMARY:South lane closure on the MacDonald
DESCRIPTION:South lane closure on the MacDonald -Dartmouth bound is slated for Friday\, July 19 between 930 AM-300 PM \n
URL:https://899thewave.fm/event/south-lane-closure-on-the-macdonald/
END:VEVENT
END:VCALENDAR