BEGIN:VCALENDAR
VERSION:2.0
PRODID:-//89.9 The Wave - ECPv4.6.26//NONSGML v1.0//EN
CALSCALE:GREGORIAN
METHOD:PUBLISH
X-WR-CALNAME:89.9 The Wave
X-ORIGINAL-URL:https://899thewave.fm
X-WR-CALDESC:Events for 89.9 The Wave
BEGIN:VEVENT
DTSTART;VALUE=DATE:20171201
DTEND;VALUE=DATE:20171204
DTSTAMP:20260421T103927
CREATED:20171017T164937Z
LAST-MODIFIED:20171017T164948Z
UID:4428-1512086400-1512345599@899thewave.fm
SUMMARY:Christmas Festival of Trees and Crafts 2017
DESCRIPTION:Christmas Festival of Trees & Crafts 2017 – December 1\, 2 & 3\nNatural Resources/Musquodoboit Valley Education Centres\,\n12014/12046 Hwy 224\, Middle Musquodoboit NS\nFriday\, December 1\, 6-8:30pm – Tree Lighting & Musical Entertainment\nSaturday\, December 2\, 10am-4pm – Trees & Craft Sale\nSunday\, December 3\, 11am-4pm – Trees & Craft Sale\nAdmission – Craft Sale $2.00;\nTrees Display-donation of non-perishable goods for local food bank\nInformation: Trees – nrec@gov.ns.ca; 902-384-3420; www.gov.ns.ca/natr/education/nrec/\nCraft Sale – suemillercfc@gmail.com; 902-384-2690; Facebook @ Christmas Festival of Crafts; www.christmasfestivalofcrafts.wordpress.com \n
URL:https://899thewave.fm/event/christmas-festival-of-trees-crafts-2017/
END:VEVENT
BEGIN:VEVENT
DTSTART;TZID=America/Halifax:20171201T190000
DTEND;TZID=America/Halifax:20171201T233000
DTSTAMP:20260421T103927
CREATED:20171031T135019Z
LAST-MODIFIED:20171031T135047Z
UID:4456-1512154800-1512171000@899thewave.fm
SUMMARY:The Biggest Little Holiday Party
DESCRIPTION:The Biggest little Holiday Party- A Holiday Party with a Purpose! Where small groups come together for one Big party. Let us make your holiday planning and budgeting easy! Whether you’re a small business\, non-profit\, group of friends\, who want to enjoy a holiday party\, we can deliver a memorable holiday experience. Helping Bryony House put bows on brighter future’s this holiday season. https://halifax.snapd.com/events/view/1088537 \n
URL:https://899thewave.fm/event/the-biggest-little-holiday-party/
END:VEVENT
END:VCALENDAR