BEGIN:VCALENDAR
VERSION:2.0
PRODID:-//89.9 The Wave - ECPv4.6.26//NONSGML v1.0//EN
CALSCALE:GREGORIAN
METHOD:PUBLISH
X-WR-CALNAME:89.9 The Wave
X-ORIGINAL-URL:https://899thewave.fm
X-WR-CALDESC:Events for 89.9 The Wave
BEGIN:VEVENT
DTSTART;TZID=America/Halifax:20171019T183000
DTEND;TZID=America/Halifax:20171019T203000
DTSTAMP:20260424T155738
CREATED:20171005T190944Z
LAST-MODIFIED:20171005T190944Z
UID:4373-1508437800-1508445000@899thewave.fm
SUMMARY:Shopping with the Stars
DESCRIPTION:Astral Drive Elementary School will be hosting its annual Shopping with the Stars event on Thursday\, October 19th at 6:30pm at the Astral Drive Junior High School. Enjoy shopping with over 45 fabulous crafters\, artists\, jewelers and small business owners of all types from our local community. Admission is $2 and includes entry into a draw for a fabulous gift basket filled with items from each vendor. All proceeds from the event will help support the Astral Drive Elementary School Parent Teacher Organization to enhance student learning. We hope to see you there! \n
URL:https://899thewave.fm/event/shopping-with-the-stars/
END:VEVENT
END:VCALENDAR