BEGIN:VCALENDAR
VERSION:2.0
PRODID:-//89.9 The Wave - ECPv4.6.26//NONSGML v1.0//EN
CALSCALE:GREGORIAN
METHOD:PUBLISH
X-WR-CALNAME:89.9 The Wave
X-ORIGINAL-URL:https://899thewave.fm
X-WR-CALDESC:Events for 89.9 The Wave
BEGIN:VEVENT
DTSTART;TZID=America/Halifax:20170914T093000
DTEND;TZID=America/Halifax:20170925T173000
DTSTAMP:20260420T144233
CREATED:20170914T151111Z
LAST-MODIFIED:20170914T151111Z
UID:4258-1505381400-1506360600@899thewave.fm
SUMMARY:Journey of a Lifetime Presented by BMO Financial Group
DESCRIPTION:The Colonist Car is connecting Canadians once again. \n“Journey of a Lifetime” is on tour bringing the story of Canada’s historic Colonist Cars to audiences across the country. Displays and a live theatre experience bring to life this incredible moment in Canadian history. \nThe Canadian Museum of Immigration at Pier 21 collects\, shares and pays tribute to the Canadian immigration story. The Museum is situated in Halifax\, Nova Scotia at Pier 21\, the National Historic Site that served as the gateway to Canada for almost one million immigrants between 1928 and 1971. Today\, the Museum shares the stories and experiences of all immigrants to Canada\, past to present day. \nWHERE\nThe Canadian Museum of Immigration at Pier 21 \nSCHEDULE\n\n\nThursday\, Sept. 14 @ 9:30am – 5:30pm\nFriday\, Sept. 15 @ 9:30am – 5:30pm\nSaturday\, Sept. 16 @ 9:30am – 5:30pm\nSunday\, Sept. 17 @ 9:30am – 5:30pm\nMonday\, Sept. 18 @ 9:30am – 5:30pm\nTuesday\, Sept. 19 @ 9:30am – 5:30pm\n\n\nWednesday\, Sept. 20 @ 9:30am – 5:30pm\nThursday\, Sept. 21 @ 9:30am – 5:30pm\nFriday\, Sept. 22 @ 9:30am – 5:30pm\nSaturday\, Sept. 23 @ 9:30am – 5:30pm\nSunday\, Sept. 24 @ 9:30am – 5:30pm\nMonday\, Sept. 25 @ 9:30am – 5:30pm\n\n\nTake the Journey\, September 14 – 25\, 2017\n
URL:https://899thewave.fm/event/journey-of-a-lifetime-presented-by-bmo-financial-group/
END:VEVENT
BEGIN:VEVENT
DTSTART;TZID=America/Halifax:20170915T170000
DTEND;TZID=America/Halifax:20170917T203000
DTSTAMP:20260420T144233
CREATED:20170915T234306Z
LAST-MODIFIED:20170915T234306Z
UID:4271-1505494800-1505680200@899thewave.fm
SUMMARY:Spryfeild Harvest Festival 2017
DESCRIPTION:Please call Donna Flemming at (902) 430-3833 or visit www.discoverspryﬁeld.ca or Facebook @ Spryﬁeld Harvest Festival for more information \nThursday September 14\, 2017\nHarvest Stew with Chef Scott from Sobeys ($10) 4pm-6pm St. Paul’s United Church\, 173 Old Sambro Road \nFriday Septemeber 15\, 2017\nFree Family Skate 5pm-7pm Spryﬁeld Lions Rink\, 111 Drysdale Road\nBook Reading with Linda Atkins 6pm-8pm Blooming Café\, 355 Herring Cove Road\nKaraoke 6pm-8pm Chebucto Connections\, 531 Herring Cove Road \nSaturday September 16\, 2017\nHarvest Market (For tables contact Gina at 476-9413\, $10) 9am-12:30pm City Church\, 276 Herring Cove Road\nVendor/Business Expo (For tables contact Bruce at 452-7472\, $20) 9am-12pm Sobeys Parking Lot\, 279 Herring Cove Road\nHarvest Festival Ofﬁcial Opening 1pm-3pm Urban Farm\, Rockingstone Road Long Lake\nKayaking with Susan 1pm-4pm Long Lake Provincial Park\,Dam at the end of Dentith Road\nFamily Fun Day 2pm-5pm City Church\, 276 Herring Cove Road\nLive Music with Dennis Brown 6pm-8pm Blooming Café\, 355 Herring Cove Road\nSpryﬁeld Film Fest – Short Films about Spryﬁeld 7pm-9:30pm Urban Farm\, Rockingstone Road\nHarvest Dance with Mark Cameron 9am-1pm Spryﬁeld Lions Rink\, 111 Drysdale Road \nSunday\, September 17\, 2017\nCeltic Rugby Under 19 Tournament 9am-5pm Graves Oakley Field\, Leiblin Drive\nHarvest Worship Service 11am-12pm City Church\, 276 Herring Cove Road\nAntique Car Show & Bar-B-Q 1pm-4pm Canadian Tire Parking Lot\, 16 Dentith Road\nSpryﬁeld Historic Walk with Allan Marryatt 1pm Captain William Spry Centre\, 16 Sussex Street\nLet’s Paint (Info at www.bloomingcafe.net) 3pm-6pm Blooming Café\, 355 Herring Cove Road\nGospel Music Concert 7pm-8:30pm City Church\, 276 Herring Cove Road \n
URL:https://899thewave.fm/event/spryfeild-harvest-festival-2017/
END:VEVENT
BEGIN:VEVENT
DTSTART;TZID=America/Halifax:20170917T110000
DTEND;TZID=America/Halifax:20170917T150000
DTSTAMP:20260420T144233
CREATED:20170913T195745Z
LAST-MODIFIED:20170913T195745Z
UID:4248-1505646000-1505660400@899thewave.fm
SUMMARY:Open Farm Day at Apple U-Pick
DESCRIPTION:Activities: Bounce Castle (11am – 3pm)\, face painting\, cider/juice tasting\, apple picking demonstrations\, apple picking\, knowledgeable staff available to answer any questions. \nExcellent opportunity for taking family pictures.\nHoneycrisp apples will be ready for picking as well.\nIn addition to apples we have squash\, pumpkins and corn. \n
URL:https://899thewave.fm/event/open-farm-day-at-apple-u-pick/
END:VEVENT
END:VCALENDAR