BEGIN:VCALENDAR
VERSION:2.0
PRODID:-//89.9 The Wave - ECPv4.6.26//NONSGML v1.0//EN
CALSCALE:GREGORIAN
METHOD:PUBLISH
X-WR-CALNAME:89.9 The Wave
X-ORIGINAL-URL:https://899thewave.fm
X-WR-CALDESC:Events for 89.9 The Wave
BEGIN:VEVENT
DTSTART;TZID=America/Halifax:20170514T160000
DTEND;TZID=America/Halifax:20170514T183000
DTSTAMP:20260419T130038
CREATED:20170412T132204Z
LAST-MODIFIED:20170412T132204Z
UID:3464-1494777600-1494786600@899thewave.fm
SUMMARY:Mother's Day Supper
DESCRIPTION:Mother’s Day Supper\, Sunday May 14th\, Forties Community Centre\, 1787 Forties Road\, New Ross Chicken\, cranberries\, peas\, carrots potatoes\, Dessert\,tea/coffee\n4:30-6 pm\, doors open at 4\, serving 4:30\, Adults $13\, Children 5-12 -$7\nunder 5 -$ 3 Info-689-2000 or 689-2612 \n
URL:https://899thewave.fm/event/mothers-day-supper/
END:VEVENT
END:VCALENDAR