BEGIN:VCALENDAR
VERSION:2.0
PRODID:-//89.9 The Wave - ECPv4.6.26//NONSGML v1.0//EN
CALSCALE:GREGORIAN
METHOD:PUBLISH
X-WR-CALNAME:89.9 The Wave
X-ORIGINAL-URL:https://899thewave.fm
X-WR-CALDESC:Events for 89.9 The Wave
BEGIN:VEVENT
DTSTART;TZID=America/Halifax:20170506T080000
DTEND;TZID=America/Halifax:20170506T140000
DTSTAMP:20260419T224802
CREATED:20170412T130239Z
LAST-MODIFIED:20170412T130239Z
UID:3442-1494057600-1494079200@899thewave.fm
SUMMARY:Flea Market
DESCRIPTION:Flea market at Edgemere\, 79 Crichton Avenue\, Dartmouth from 8 am to 2 pm\, All Welcome \n
URL:https://899thewave.fm/event/flea-market/
END:VEVENT
BEGIN:VEVENT
DTSTART;TZID=America/Halifax:20170506T080000
DTEND;TZID=America/Halifax:20170506T120000
DTSTAMP:20260419T224802
CREATED:20170419T190806Z
LAST-MODIFIED:20170419T190806Z
UID:3526-1494057600-1494072000@899thewave.fm
SUMMARY:Giant Indoor Yard Sale
DESCRIPTION:Giant “Indoor” Yard Sale.. Saturday\, May 6th from 8 am to 12 Noon at Rockingham United Church\, 12 Flamingo Drive\, Halifax..for more information call 902-443-2947 or email..events@rockinghamunited.org \n
URL:https://899thewave.fm/event/giant-indoor-yard-sale/
END:VEVENT
BEGIN:VEVENT
DTSTART;TZID=America/Halifax:20170506T140000
DTEND;TZID=America/Halifax:20170506T170000
DTSTAMP:20260419T224802
CREATED:20170412T131127Z
LAST-MODIFIED:20170412T131127Z
UID:3452-1494079200-1494090000@899thewave.fm
SUMMARY:Annual Classic Country & Bluegrass Spring Jamboree
DESCRIPTION:Saturday\, May 6th @ 2:00 PM – Annual Classic Country & Bluegrass Spring Jamboree\, (formally held at Nine Mile River Community Center)\, moved to Milford Lantz United Church\, 2134 Highway 2 in Milford\, $7.00 pp\, 50/50 and canteen. Entertainers; Free Wheelin Bluegrass Band\, Buddy Boutilier & Allie Macneil\, The Country Side Of Bluegrass\, Jim Richard & Rusty Cage and The Oxbow Mountain Boys – Canteen & 50/50. Everyone welcome. Sponsored by the East Hants Bluegrass & Oldtime Music Association. We Support Local Charities. Info 902-883-7189 \n
URL:https://899thewave.fm/event/annual-classic-country-bluegrass-spring-jamboree/
END:VEVENT
END:VCALENDAR