BEGIN:VCALENDAR
VERSION:2.0
PRODID:-//89.9 The Wave - ECPv4.6.26//NONSGML v1.0//EN
CALSCALE:GREGORIAN
METHOD:PUBLISH
X-WR-CALNAME:89.9 The Wave
X-ORIGINAL-URL:https://899thewave.fm
X-WR-CALDESC:Events for 89.9 The Wave
BEGIN:VEVENT
DTSTART;VALUE=DATE:20170503
DTEND;VALUE=DATE:20170504
DTSTAMP:20260420T021353
CREATED:20170403T165311Z
LAST-MODIFIED:20170403T165311Z
UID:3343-1493769600-1493855999@899thewave.fm
SUMMARY:McHappy Day
DESCRIPTION:
URL:https://899thewave.fm/event/mchappy-day/
ATTACH;FMTTYPE=image/png:https://899thewave.fm/wp-content/uploads/sites/4/2017/04/McHappyDay_Wave.png
END:VEVENT
END:VCALENDAR