BEGIN:VCALENDAR
VERSION:2.0
PRODID:-//89.9 The Wave - ECPv4.6.26//NONSGML v1.0//EN
CALSCALE:GREGORIAN
METHOD:PUBLISH
X-WR-CALNAME:89.9 The Wave
X-ORIGINAL-URL:https://899thewave.fm
X-WR-CALDESC:Events for 89.9 The Wave
BEGIN:VEVENT
DTSTART;TZID=America/Halifax:20170429T090000
DTEND;TZID=America/Halifax:20170429T120000
DTSTAMP:20260420T071803
CREATED:20170419T190917Z
LAST-MODIFIED:20170419T190917Z
UID:3528-1493456400-1493467200@899thewave.fm
SUMMARY:Five kilometer Fund Raising “Life Run”
DESCRIPTION:Five kilometer Fund Raising “Life Run” April 29th\, at 9:00 a.m. in support of Help 2 Overcome. The race will start and end at the Black Point Fire Hall on St. Margaret’s Bay Rd. Registration is $5.00 and starts 8:00 a.m. at the Fire Hall. \nHelp 2 Overcome is a Canadian-based\, registered charity located in Black Point that is committed to providing water and sanitation to schools in Sierra Leone. Unsafe water\, inadequate sanitation and lack of hygiene affects the health\, safety\, and quality of life of children. Reducing these problems helps kids get back to school. It also protects girls’ right to education as girls are reluctant to continue their schooling when toilet and washing facilities are not private\, not safe\, not clean\, or simply not available. Ben John will be returning to Sierra Leone in September. Your donation will help build toilets and provide water to the schools. \nFor more information go to \nhttps://www.facebook.com/events/992992840832168/permalink/994439740687478/?notif_t=like&notif_id=1491812534998079 \nhttps://www.help2overcome.org/ \n
URL:https://899thewave.fm/event/five-kilometer-fund-raising-life-run/
END:VEVENT
BEGIN:VEVENT
DTSTART;TZID=America/Halifax:20170429T173000
DTEND;TZID=America/Halifax:20170429T220000
DTSTAMP:20260420T071803
CREATED:20170412T130359Z
LAST-MODIFIED:20170412T130359Z
UID:3444-1493487000-1493503200@899thewave.fm
SUMMARY:Spring Merchandise and Cash Bingo
DESCRIPTION:Spring Merchandise and Cash Bingo North Woodside Community Centre. 230 Pleasant Street\, Dartmouth\, NS Saturday April 29th\, 2017 Doors open at 5:30 pm; Bingo starts at 6:30 pm Booklets (Special and Regular) $5.00 each Canteen on site 902-463-9276 \n
URL:https://899thewave.fm/event/spring-merchandise-and-cash-bingo/
END:VEVENT
BEGIN:VEVENT
DTSTART;TZID=America/Halifax:20170429T213000
DTEND;TZID=America/Halifax:20170429T213000
DTSTAMP:20260420T071803
CREATED:20170419T190328Z
LAST-MODIFIED:20170419T190328Z
UID:3524-1493501400-1493501400@899thewave.fm
SUMMARY:Cape Breton Dance
DESCRIPTION:There will be a Cape Breton Dance on April 29th\, 2017 at the Shriners Hall\, 3530 Connolly Street\, Halifax. The dance starts at 9:30 PM and closes at 1:00 AM. Entertainment this month is Andrea Beaton with Wendy MacIsaac on piano. $10.00 at the door\, cash bar provided. Come and join us for an evening of fun and entertainment in air conditioned comfort. Contact is Les MacKinnon at 434-6022. Thank you\, Anna Fiander Treasurer \n
URL:https://899thewave.fm/event/cape-breton-dance-3/
END:VEVENT
END:VCALENDAR