BEGIN:VCALENDAR
VERSION:2.0
PRODID:-//89.9 The Wave - ECPv4.6.26//NONSGML v1.0//EN
CALSCALE:GREGORIAN
METHOD:PUBLISH
X-WR-CALNAME:89.9 The Wave
X-ORIGINAL-URL:https://899thewave.fm
X-WR-CALDESC:Events for 89.9 The Wave
BEGIN:VEVENT
DTSTART;TZID=America/Halifax:20170428T180000
DTEND;TZID=America/Halifax:20170428T220000
DTSTAMP:20260420T083535
CREATED:20170412T131649Z
LAST-MODIFIED:20170412T131649Z
UID:3460-1493402400-1493416800@899thewave.fm
SUMMARY:Family Fun Night
DESCRIPTION:Friday\, April 28\nSt. Joseph’s Church Hall\, 3709 Prospect Rd\, Shad Bay\, NS\nDoors open at 6 pm\, Draws start at 7 pm\nCanteen serving homemade chili & hotdogs\nDoor prize\, 50/50\, lots of prizes to be won!\nOLMC parish welcomes everyone to a fun family night! \n
URL:https://899thewave.fm/event/family-fun-night/
END:VEVENT
END:VCALENDAR