BEGIN:VCALENDAR
VERSION:2.0
PRODID:-//89.9 The Wave - ECPv4.6.26//NONSGML v1.0//EN
CALSCALE:GREGORIAN
METHOD:PUBLISH
X-WR-CALNAME:89.9 The Wave
X-ORIGINAL-URL:https://899thewave.fm
X-WR-CALDESC:Events for 89.9 The Wave
BEGIN:VEVENT
DTSTART;TZID=America/Halifax:20170412T183000
DTEND;TZID=America/Halifax:20170412T210000
DTSTAMP:20260421T042338
CREATED:20170412T131522Z
LAST-MODIFIED:20170412T131522Z
UID:3458-1492021800-1492030800@899thewave.fm
SUMMARY:Friends of McNabs Island: Annual Meeting and Special Presentation
DESCRIPTION:Join the Friends of McNabs Island for our Annual Meeting and Special Presentation – McNabs Island Stands on Guard from Confederation to the Cold War. APRIL 12\, 6:30 PM at the Maritime Museum of the Atlantic\, 1675 Lower Water St on the Halifax Waterfront.\nGuest speaker is Dr. Jay White who will look at the important role McNabs Island played in protecting the Port of Halifax from Confederation\, through two World Wars and during peacetime.\nAll are welcome! For more info www.mcnabsisland.ca \n
URL:https://899thewave.fm/event/friends-of-mcnabs-island-annual-meeting-and-special-presentation/
END:VEVENT
END:VCALENDAR