BEGIN:VCALENDAR
VERSION:2.0
PRODID:-//89.9 The Wave - ECPv4.6.26//NONSGML v1.0//EN
CALSCALE:GREGORIAN
METHOD:PUBLISH
X-WR-CALNAME:89.9 The Wave
X-ORIGINAL-URL:https://899thewave.fm
X-WR-CALDESC:Events for 89.9 The Wave
BEGIN:VEVENT
DTSTART;TZID=America/Halifax:20170409T100000
DTEND;TZID=America/Halifax:20170409T160000
DTSTAMP:20260421T080110
CREATED:20170306T175203Z
LAST-MODIFIED:20170306T175203Z
UID:3094-1491732000-1491753600@899thewave.fm
SUMMARY:Marley's Hope Dog Rescue
DESCRIPTION:Marley’s hope dog rescue is holding a craft show on April 9th from 10-4pm at Cole Harbour place. We will have 60 tables of vendors and a great variety of crafts and homemade goods. Admission is $2. \n
URL:https://899thewave.fm/event/marleys-hope-dog-rescue/
END:VEVENT
BEGIN:VEVENT
DTSTART;TZID=America/Halifax:20170409T133000
DTEND;TZID=America/Halifax:20170409T160000
DTSTAMP:20260421T080110
CREATED:20170320T132704Z
LAST-MODIFIED:20170320T132704Z
UID:3228-1491744600-1491753600@899thewave.fm
SUMMARY:Variety Show
DESCRIPTION:Variety Forties Community Centre- 1787 Forties Rd.\,New Ross\nSunday\, April 9th. 1:30-4:00 pm $5.00 admission\nCaroll Edwards & friends\, Jamie Cotter & friends\,Kings Fiddlers\,Salt Water Cowboys\nCanteen available\, wheelchair accessible\, ground level\nSound by Dave Guptill Call 689-2000 or 689-2612 for Information \n
URL:https://899thewave.fm/event/variety-show-3/
END:VEVENT
END:VCALENDAR