BEGIN:VCALENDAR
VERSION:2.0
PRODID:-//89.9 The Wave - ECPv4.6.26//NONSGML v1.0//EN
CALSCALE:GREGORIAN
METHOD:PUBLISH
X-WR-CALNAME:89.9 The Wave
X-ORIGINAL-URL:https://899thewave.fm
X-WR-CALDESC:Events for 89.9 The Wave
BEGIN:VEVENT
DTSTART;TZID=America/Halifax:20170402T133000
DTEND;TZID=America/Halifax:20170402T193000
DTSTAMP:20260421T171003
CREATED:20170320T132155Z
LAST-MODIFIED:20170320T132155Z
UID:3224-1491139800-1491161400@899thewave.fm
SUMMARY:East Hants Bluegrass & Oldtime Music Association Monthly Bluegrass Jam
DESCRIPTION:Sun. April 2\, 2017 – 1:30 – 7:30 PM – East Hants Bluegrass & Oldtime Music Association Monthly Bluegrass Jam – Milford Lantz United Church – 2134 Highway # 2 in Milford – Members & Guests – new members welcome. For Information – 902-883-7189 \n
URL:https://899thewave.fm/event/east-hants-bluegrass-oldtime-music-association-monthly-bluegrass-jam-2/
END:VEVENT
BEGIN:VEVENT
DTSTART;TZID=America/Halifax:20170402T140000
DTEND;TZID=America/Halifax:20170402T153000
DTSTAMP:20260421T171003
CREATED:20170322T183350Z
LAST-MODIFIED:20170323T122606Z
UID:3256-1491141600-1491147000@899thewave.fm
SUMMARY:Fashion Show & Bake Sale
DESCRIPTION:St. John’s Anglican Church Westphal\, 1215 Main St.\, Westphal (Corner of Lake Major Rd. & #7 Highway)(Wheelchair Accessible) is having a Fashion Show on Sunday April 2/17 from 2:00 pm-3:30 pm. Featuring Tan Jay clothing. $10 per ticket. Coffee\, tea\, sandwiches\, and sweets included. Contact Shirley Murphy (434-6576) for tickets \n
URL:https://899thewave.fm/event/fashion-show-bake-sale/
CATEGORIES:Entertainment
END:VEVENT
END:VCALENDAR