BEGIN:VCALENDAR
VERSION:2.0
PRODID:-//89.9 The Wave - ECPv4.6.26//NONSGML v1.0//EN
CALSCALE:GREGORIAN
METHOD:PUBLISH
X-WR-CALNAME:89.9 The Wave
X-ORIGINAL-URL:https://899thewave.fm
X-WR-CALDESC:Events for 89.9 The Wave
BEGIN:VEVENT
DTSTART;TZID=America/Halifax:20170325T090000
DTEND;TZID=America/Halifax:20170325T120000
DTSTAMP:20260422T030552
CREATED:20170316T173136Z
LAST-MODIFIED:20170316T173136Z
UID:3197-1490432400-1490443200@899thewave.fm
SUMMARY:St. Luke’s Church Flea Market
DESCRIPTION:St. Luke’s Church Flea Market\, Book\, Clothing and Bake Sale Event Date and Time: Saturday\, March 25/17 9am to 12 noon pertinent information about the event Being held at St Luke’s Church Basement\, 9 Veterans Ave. Dartmouth. Tel#902 462 0135(basement phone#) 300 ft. of flea market items\, books .50 each or 3 for $1.00\, clothing pack a garage bag of clothes $20\, or $2.00 per item. Church bake table and Canteen. $1.00 Cover charge per adult . After 11am all church flea market items including books left only .25 each. If cancel due to winter conditions will be held Saturday \, April 01/17 9am to 12 noon To book flea market tables call 902 461 9885 ask for Mitchell\, tables available up March 22/17 1st 5 ft. $10 each additional 5ft. is $5.00 Contact information St Luke’s Church Office Tel 902 434-7670(9amto 12 noon) or Saturday\, March 25/17 Tel#902 462 0135 \n
URL:https://899thewave.fm/event/st-lukes-church-flea-market/
END:VEVENT
BEGIN:VEVENT
DTSTART;TZID=America/Halifax:20170325T213000
DTEND;TZID=America/Halifax:20170326T000000
DTSTAMP:20260422T030552
CREATED:20170316T172925Z
LAST-MODIFIED:20170316T172925Z
UID:3195-1490477400-1490486400@899thewave.fm
SUMMARY:Cape Breton Dance
DESCRIPTION:There will be a Cape Breton Dance on March 25th\, 2017 at the Shriners Hall\, 3530 Connolly Street\, Halifax. The dance starts at 9:30 PM and closes at 1:00 AM. Entertainment this month is Wendy MacIsaac and friends. $10.00 at the door\, cash bar provided. Come and join us for an evening of fun and entertainment in air conditioned comfort. Contact is Les MacKinnon at 434-6022. Thank you\, Anna Fiander Treasurer \n
URL:https://899thewave.fm/event/cape-breton-dance-2/
END:VEVENT
END:VCALENDAR