BEGIN:VCALENDAR
VERSION:2.0
PRODID:-//89.9 The Wave - ECPv4.6.26//NONSGML v1.0//EN
CALSCALE:GREGORIAN
METHOD:PUBLISH
X-WR-CALNAME:89.9 The Wave
X-ORIGINAL-URL:https://899thewave.fm
X-WR-CALDESC:Events for 89.9 The Wave
BEGIN:VEVENT
DTSTART;VALUE=DATE:20170218
DTEND;VALUE=DATE:20170219
DTSTAMP:20260426T035932
CREATED:20170208T185700Z
LAST-MODIFIED:20170208T185700Z
UID:2901-1487376000-1487462399@899thewave.fm
SUMMARY:MILFORD COFFEEHOUSE
DESCRIPTION:6:30 PM – MILFORD COFFEEHOUSE at Milford Lantz United Church – lots of great music and fellowship. EVERYONE welcome\, drop in and listen\, sing along\, and enjoy. Featuring: New Vintage Bluegrass Band\, Art MacNeil and Darrin Lively. Light lunch supplied – lots of tea and coffee – Goodwill offering with proceeds for the church. Information 883-7189. \n
URL:https://899thewave.fm/event/milford-coffeehouse/
END:VEVENT
END:VCALENDAR