BEGIN:VCALENDAR
VERSION:2.0
PRODID:-//89.9 The Wave - ECPv4.6.26//NONSGML v1.0//EN
CALSCALE:GREGORIAN
METHOD:PUBLISH
X-WR-CALNAME:89.9 The Wave
X-ORIGINAL-URL:https://899thewave.fm
X-WR-CALDESC:Events for 89.9 The Wave
BEGIN:VEVENT
DTSTART;VALUE=DATE:20190830
DTEND;VALUE=DATE:20190831
DTSTAMP:20260424T031532
CREATED:20190829T103953Z
LAST-MODIFIED:20190829T103953Z
UID:10077-1567123200-1567209599@899thewave.fm
SUMMARY:Wrestling in Spryfield
DESCRIPTION:Ultimate Championship Wrestling returns to the Spryfield Lions Club on August 30th for Management Night! UCW CEO Chuck Martin and UCW General Manager “Wildman” Gary Williams have already signed two exciting matches! \n \n
URL:https://899thewave.fm/event/wrestling-in-spryfield/
END:VEVENT
END:VCALENDAR