BEGIN:VCALENDAR
VERSION:2.0
PRODID:-//89.9 The Wave - ECPv4.6.26//NONSGML v1.0//EN
CALSCALE:GREGORIAN
METHOD:PUBLISH
X-WR-CALNAME:89.9 The Wave
X-ORIGINAL-URL:https://899thewave.fm
X-WR-CALDESC:Events for 89.9 The Wave
BEGIN:VEVENT
DTSTART;TZID=America/Halifax:20170923T100000
DTEND;TZID=America/Halifax:20170923T130000
DTSTAMP:20260421T074612
CREATED:20170801T164606Z
LAST-MODIFIED:20170919T111306Z
UID:4077-1506160800-1506171600@899thewave.fm
SUMMARY:Trails N' Tails Charity Hike
DESCRIPTION:\n\n\n\n\n\nSaturday\, September 23\, 2017\n10:00am 1:00pm\n\nOn Saturday September 23rd 2017\, humans and hounds alike will hit the trails of Uniacke Estate Museum Park in support of first responders with Post Traumatic Stress Disorder in need of service dogs. \nPresented by Muddy Paws Adventures and The Mental Health Foundation of Nova Scotia\, Trails N’ Tails is a 60 minute nature hike  through some of Hants County’s most picturesque trails. Participants have the option to make a donation or collect pledges with all proceeds going directly to the Mental Health Foundation of Nova Scotia’s  First Responder PTSD Service Dog Initiative. \nFor more information\, please visit their Facebook page. \n\n\n\n\n\n\n
URL:https://899thewave.fm/event/trails-n-tails-charity-hike/
END:VEVENT
END:VCALENDAR