BEGIN:VCALENDAR
VERSION:2.0
PRODID:-//89.9 The Wave - ECPv4.6.26//NONSGML v1.0//EN
CALSCALE:GREGORIAN
METHOD:PUBLISH
X-WR-CALNAME:89.9 The Wave
X-ORIGINAL-URL:https://899thewave.fm
X-WR-CALDESC:Events for 89.9 The Wave
BEGIN:VEVENT
DTSTART;VALUE=DATE:20190707
DTEND;VALUE=DATE:20190708
DTSTAMP:20260421T093531
CREATED:20190618T015652Z
LAST-MODIFIED:20190618T015652Z
UID:9403-1562457600-1562543999@899thewave.fm
SUMMARY:The Wizard of Oz
DESCRIPTION:Sun.\, Jul. 7\, 7:00 p.m \n\n\n\nCambridge Battery\, Point Pleasant Park\, Cambridge Dr\, Halifax\, NS.\n\nThis summer\, take the yellow brick road to Point Pleasant Park! The hilarious SBTSHalifax writing crew is back to take on Frank L. Baum’s The Wizard Of Oz! An all-new adaptation\, perfect for audiences of all ages\, featuring original music by Garry Williams\, with all your favourite characters getting caught up in twisters\, hanging with Munchkins\, and dodging Flying Monkeys all the way to the Emerald City!\n\n\n\n
URL:https://899thewave.fm/event/the-wizard-of-oz/
END:VEVENT
END:VCALENDAR