BEGIN:VCALENDAR
VERSION:2.0
PRODID:-//89.9 The Wave - ECPv4.6.26//NONSGML v1.0//EN
CALSCALE:GREGORIAN
METHOD:PUBLISH
X-WR-CALNAME:89.9 The Wave
X-ORIGINAL-URL:https://899thewave.fm
X-WR-CALDESC:Events for 89.9 The Wave
BEGIN:VEVENT
DTSTART;TZID=America/Halifax:20230526T193000
DTEND;TZID=America/Halifax:20230526T193000
DTSTAMP:20260421T110140
CREATED:20230327T115440Z
LAST-MODIFIED:20230327T115440Z
UID:16771-1685129400-1685129400@899thewave.fm
SUMMARY:The Wildflowers - North America’s #1 Tribute to Tom Petty & The Heartbreakers
DESCRIPTION:Tom Petty is one of the greatest songwriters of all time. With a catalog of hit songs that span decades\, and music that appeals to all ages\, The Wildflowers sound just like Tom Petty and The Heartbreakers in their prime\, and have the energy and musicianship to bring down the house with every performance. Presenting a stunningly accurate tribute to Tom Petty & The Heartbreakers\, The Wildflowers have earned a glowing reputation as one of the finest tribute bands in North America.  \n
URL:https://899thewave.fm/event/the-wildflowers-north-americas-1-tribute-to-tom-petty-the-heartbreakers/
LOCATION:Rebecca Cohn Auditorium
ATTACH;FMTTYPE=image/jpeg:https://899thewave.fm/wp-content/uploads/sites/4/2023/03/The-Wildflowers-1000x1300-1-600x780-1.jpg
END:VEVENT
END:VCALENDAR