BEGIN:VCALENDAR
VERSION:2.0
PRODID:-//89.9 The Wave - ECPv4.6.26//NONSGML v1.0//EN
CALSCALE:GREGORIAN
METHOD:PUBLISH
X-WR-CALNAME:89.9 The Wave
X-ORIGINAL-URL:https://899thewave.fm
X-WR-CALDESC:Events for 89.9 The Wave
BEGIN:VEVENT
DTSTART;VALUE=DATE:20190606
DTEND;VALUE=DATE:20190607
DTSTAMP:20260421T121023
CREATED:20190429T185108Z
LAST-MODIFIED:20190605T232817Z
UID:8388-1559779200-1559865599@899thewave.fm
SUMMARY:The first Drive In opened in Camden NJ in 1933
DESCRIPTION:June 6\, 1933 eager motorists park their automobiles on the grounds of Park-In Theaters\, the first-ever drive-in movie theater\, located on Crescent Boulevard in Camden\, New Jersey. \nAdmission : 25 cents per car and 25 cents per person\, with no group paying more than one dollar. \nToday there are 2 Drive In theaters in Nova Scotia. One in Cambridge and the other in Sydney. \n
URL:https://899thewave.fm/event/the-first-drive-in-opened-in-camden-nj-in-1933/
END:VEVENT
END:VCALENDAR