BEGIN:VCALENDAR
VERSION:2.0
PRODID:-//89.9 The Wave - ECPv4.6.26//NONSGML v1.0//EN
CALSCALE:GREGORIAN
METHOD:PUBLISH
X-WR-CALNAME:89.9 The Wave
X-ORIGINAL-URL:https://899thewave.fm
X-WR-CALDESC:Events for 89.9 The Wave
BEGIN:VEVENT
DTSTART;VALUE=DATE:20190805
DTEND;VALUE=DATE:20190806
DTSTAMP:20260425T163048
CREATED:20190502T152001Z
LAST-MODIFIED:20190502T152001Z
UID:8561-1564963200-1565049599@899thewave.fm
SUMMARY:The Class of 1985
DESCRIPTION:The Class of 1985 (encore broadcast) \nAugust 5 \nAll your favorites from 1985 \nNoon-6 pm on 89 9 The Wave \n
URL:https://899thewave.fm/event/the-class-of-1985-2/
END:VEVENT
END:VCALENDAR