BEGIN:VCALENDAR
VERSION:2.0
PRODID:-//89.9 The Wave - ECPv4.6.26//NONSGML v1.0//EN
CALSCALE:GREGORIAN
METHOD:PUBLISH
X-WR-CALNAME:89.9 The Wave
X-ORIGINAL-URL:https://899thewave.fm
X-WR-CALDESC:Events for 89.9 The Wave
BEGIN:VEVENT
DTSTART;VALUE=DATE:20191002
DTEND;VALUE=DATE:20191003
DTSTAMP:20260423T023103
CREATED:20190605T001506Z
LAST-MODIFIED:20190605T001506Z
UID:9196-1569974400-1570060799@899thewave.fm
SUMMARY:The busiest passenger day of the cruise season
DESCRIPTION:Oct. 2 is expected to be the busiest passenger day of the season with more than 10\,000 cruise passengers arriving on five vessels. \n
URL:https://899thewave.fm/event/the-busiest-passenger-day-of-the-cruise-season/
END:VEVENT
END:VCALENDAR