BEGIN:VCALENDAR
VERSION:2.0
PRODID:-//89.9 The Wave - ECPv4.6.26//NONSGML v1.0//EN
CALSCALE:GREGORIAN
METHOD:PUBLISH
X-WR-CALNAME:89.9 The Wave
X-ORIGINAL-URL:https://899thewave.fm
X-WR-CALDESC:Events for 89.9 The Wave
BEGIN:VEVENT
DTSTART;VALUE=DATE:20160924
DTEND;VALUE=DATE:20160925
DTSTAMP:20260420T090738
CREATED:20160909T125221Z
LAST-MODIFIED:20160909T125221Z
UID:1028-1474675200-1474761599@899thewave.fm
SUMMARY:Spryfield Harvest Festival
DESCRIPTION:89.9 The Wave is proud to support the 2016 Spryfield Harvest Festival! \nFrom September 23rd to 25th\, take in everything your community has to offer! \nHere is a quick glimpse of some of the activities you can take part in! \nSeptember 23rd \nChili Dinner with Chef Scott from Sobeys\, Free ice skating\, karaoke and more! \nSeptember 24th  \nLong Lake Park Hike\, family fun day\, free swim\, chili cook off \, corn boil\, and more! \nSeptember 25th  \nAntique car show\, talent show can\, BBQ\, historic walk and more! \nFor all the details contact Donna Flemming (902-430-3833) or visit their Facebook page @ Spryfield Harvest Festival! \n \n
URL:https://899thewave.fm/event/spryfield-harvest-festival-2/
END:VEVENT
END:VCALENDAR