BEGIN:VCALENDAR
VERSION:2.0
PRODID:-//89.9 The Wave - ECPv4.6.26//NONSGML v1.0//EN
CALSCALE:GREGORIAN
METHOD:PUBLISH
X-WR-CALNAME:89.9 The Wave
X-ORIGINAL-URL:https://899thewave.fm
X-WR-CALDESC:Events for 89.9 The Wave
BEGIN:VEVENT
DTSTART;VALUE=DATE:20190621
DTEND;VALUE=DATE:20190622
DTSTAMP:20260421T105732
CREATED:20190527T005119Z
LAST-MODIFIED:20190527T005119Z
UID:8981-1561075200-1561161599@899thewave.fm
SUMMARY:Social Media Day Halifax
DESCRIPTION:Cineplex Scotiabank Theatre Halifax \n190 Chain Lake Drive \nFri\, 21 June 2019 \n7:30 AM – 4:30 PM \nSocial Media Day is celebrated annually in June. SOCIAL MEDIA DAY HALIFAX 2019 is a one-day conference to be held on June 21st\, coinciding with Social Media Day events worldwide. \nGeneral admission tickets available here: https://socialmediadayhalifax.com/buy-tickets/ \n
URL:https://899thewave.fm/event/social-media-day-halifax/
END:VEVENT
END:VCALENDAR