BEGIN:VCALENDAR
VERSION:2.0
PRODID:-//89.9 The Wave - ECPv4.6.26//NONSGML v1.0//EN
CALSCALE:GREGORIAN
METHOD:PUBLISH
X-WR-CALNAME:89.9 The Wave
X-ORIGINAL-URL:https://899thewave.fm
X-WR-CALDESC:Events for 89.9 The Wave
BEGIN:VEVENT
DTSTART;TZID=America/Halifax:20170422T110000
DTEND;TZID=America/Halifax:20170422T140000
DTSTAMP:20260422T104816
CREATED:20170412T130835Z
LAST-MODIFIED:20170412T130835Z
UID:3448-1492858800-1492869600@899thewave.fm
SUMMARY:Seafood Chowder or Chili Luncheon
DESCRIPTION:SEAFOOD CHOWDER\, or\, CHILI LUNCHEON\nSATURDAY\, APRIL 22\, 2017 – 11:00 am-2:00 pm\nST. MARGARET’S ANGLICAN CHURCH HALL\, TANTALLON\n(4 km down the Peggy’s Cove Road)\nCHOWDER\, or\, CHILI\, ROLL\, GINGERBREAD/WHIPPED CREAM\,\nTEA\, COFFEE OR JUICE\nADULTS: $10; CHILDREN: 5-12: $5; PRE-SCHOOLERS: Free\nFor further details please contact Daisy Dauphinee – 902-826-2882 \n
URL:https://899thewave.fm/event/seafood-chowder-or-chili-luncheon/
END:VEVENT
END:VCALENDAR