BEGIN:VCALENDAR
VERSION:2.0
PRODID:-//89.9 The Wave - ECPv4.6.26//NONSGML v1.0//EN
CALSCALE:GREGORIAN
METHOD:PUBLISH
X-WR-CALNAME:89.9 The Wave
X-ORIGINAL-URL:https://899thewave.fm
X-WR-CALDESC:Events for 89.9 The Wave
BEGIN:VEVENT
DTSTART;TZID=America/Halifax:20170924T123000
DTEND;TZID=America/Halifax:20170924T170000
DTSTAMP:20260421T090808
CREATED:20170622T175453Z
LAST-MODIFIED:20170622T175534Z
UID:3956-1506256200-1506272400@899thewave.fm
SUMMARY:Scotiabank AIDS Walk
DESCRIPTION:Sunday September 24\, 2017\, marks the 28th anniversary of Scotiabank AIDS Walk organized by the AIDS Coalition of NS (ACNS). Walkers will gather at Halifax Common\, Pavilion Site to build community\, increase awareness and raise funds to support HIV/AIDS efforts in Nova Scotia. WALK with us to help create a stronger community with better opportunities for people living with and affected by HIV/AIDS. Registration starts @ 12:30 pm and we will walk @ 2:00 pm. Join us at the finish line to enjoy a delicious BBQ offered by Sobeys and Wilson’s. This family fun filled afternoon will be a celebration of life\, reflection\, and hope. \n
URL:https://899thewave.fm/event/scotiabank-aids-walk/
END:VEVENT
END:VCALENDAR