BEGIN:VCALENDAR
VERSION:2.0
PRODID:-//89.9 The Wave - ECPv4.6.26//NONSGML v1.0//EN
CALSCALE:GREGORIAN
METHOD:PUBLISH
X-WR-CALNAME:89.9 The Wave
X-ORIGINAL-URL:https://899thewave.fm
X-WR-CALDESC:Events for 89.9 The Wave
BEGIN:VEVENT
DTSTART;TZID=America/Halifax:20241105T193000
DTEND;TZID=America/Halifax:20241105T193000
DTSTAMP:20260421T104536
CREATED:20241003T150807Z
LAST-MODIFIED:20241003T150845Z
UID:17728-1730835000-1730835000@899thewave.fm
SUMMARY:Sarah Mclachlan 'Fumbling Towards Ecstasy' 30th Anniversary Tour
DESCRIPTION:
URL:https://899thewave.fm/event/sarah-mclachlan-fumbling-towards-ecstasy-30th-anniversary-tour/
LOCATION:Scotiabank Centre\, 1800 Argyle St\, Halifax\, Nova Scotia\, B3J 2V9\, Canada
ATTACH;FMTTYPE=image/jpeg:https://899thewave.fm/wp-content/uploads/sites/4/2024/10/sarah.jpg
END:VEVENT
END:VCALENDAR