BEGIN:VCALENDAR
VERSION:2.0
PRODID:-//89.9 The Wave - ECPv4.6.26//NONSGML v1.0//EN
CALSCALE:GREGORIAN
METHOD:PUBLISH
X-WR-CALNAME:89.9 The Wave
X-ORIGINAL-URL:https://899thewave.fm
X-WR-CALDESC:Events for 89.9 The Wave
BEGIN:VEVENT
DTSTART;VALUE=DATE:20170318
DTEND;VALUE=DATE:20170319
DTSTAMP:20260422T133040
CREATED:20170208T184357Z
LAST-MODIFIED:20170208T184357Z
UID:2892-1489795200-1489881599@899thewave.fm
SUMMARY:Saint Paddy’s Dance
DESCRIPTION:Saint Paddy’s Dance (19+) North Woodside Community Centre. 230 Pleasant Street\, Dartmouth\, NS Saturday March 18th 8:00 – 11:00 pm Tickets $7.50 per person Door prizes drawn throughout the night Snack and Limited Beverage Bar (beer\, coolers) on site Tickets on sale NOW! 902-463-9276 eventsnwcc@bellaliant.net \n
URL:https://899thewave.fm/event/saint-paddys-dance/
END:VEVENT
END:VCALENDAR