BEGIN:VCALENDAR
VERSION:2.0
PRODID:-//89.9 The Wave - ECPv4.6.26//NONSGML v1.0//EN
CALSCALE:GREGORIAN
METHOD:PUBLISH
X-WR-CALNAME:89.9 The Wave
X-ORIGINAL-URL:https://899thewave.fm
X-WR-CALDESC:Events for 89.9 The Wave
BEGIN:VEVENT
DTSTART;TZID=America/Halifax:20170422T160000
DTEND;TZID=America/Halifax:20170422T180000
DTSTAMP:20260420T170512
CREATED:20170412T131238Z
LAST-MODIFIED:20170412T131238Z
UID:3454-1492876800-1492884000@899thewave.fm
SUMMARY:Roast Beef Dinner
DESCRIPTION:A Roast Beef Dinner with all the trimmings will be held on Saturday\, April 22 from 4-6 p.m. in St. James United Church\, Upper Musquodoboit\, 8747 Hwy. 224. $12.00 for adults\, $6.00 for children 12 and under. Wheelchair access and takeouts available. Tickets at the door.\nThank you! \n
URL:https://899thewave.fm/event/roast-beef-dinner/
END:VEVENT
END:VCALENDAR