BEGIN:VCALENDAR
VERSION:2.0
PRODID:-//89.9 The Wave - ECPv4.6.26//NONSGML v1.0//EN
CALSCALE:GREGORIAN
METHOD:PUBLISH
X-WR-CALNAME:89.9 The Wave
X-ORIGINAL-URL:https://899thewave.fm
X-WR-CALDESC:Events for 89.9 The Wave
BEGIN:VEVENT
DTSTART;VALUE=DATE:20220321
DTEND;VALUE=DATE:20220322
DTSTAMP:20260419T134610
CREATED:20220321T121806Z
LAST-MODIFIED:20220321T121856Z
UID:16148-1647820800-1647907199@899thewave.fm
SUMMARY:REOPENING PHASE 3 BEGINS IN NS
DESCRIPTION:Today (March 21)\, most province-wide public health restrictions will be lifted\, including gathering limits\, physical distancing and mask requirements. Some measures will remain in place for high-risk settings\, such as healthcare and long-term care. \nIn public schools\, masking remains mandatory for a few more weeks. \nMore information HERE \n
URL:https://899thewave.fm/event/reopening-phase-3-begins-in-ns/
ATTACH;FMTTYPE=image/jpeg:https://899thewave.fm/wp-content/uploads/sites/4/2022/03/photo-1597440658768-f3ffdf64223c.jpg
END:VEVENT
END:VCALENDAR