BEGIN:VCALENDAR
VERSION:2.0
PRODID:-//89.9 The Wave - ECPv4.6.26//NONSGML v1.0//EN
CALSCALE:GREGORIAN
METHOD:PUBLISH
X-WR-CALNAME:89.9 The Wave
X-ORIGINAL-URL:https://899thewave.fm
X-WR-CALDESC:Events for 89.9 The Wave
BEGIN:VEVENT
DTSTART;VALUE=DATE:20191022
DTEND;VALUE=DATE:20191023
DTSTAMP:20260422T030944
CREATED:20190726T214722Z
LAST-MODIFIED:20190812T214837Z
UID:9816-1571702400-1571788799@899thewave.fm
SUMMARY:NBA regular season starts
DESCRIPTION:The regular season will begin on October 22\, 2019 and will end in April 2020. The playoffs will begin in April 2020\, and will end with the NBA Finals in June 2020. The 2020 NBA All-Star Game will be played on February 16\, 2020\, at the United Center in Chicago\, Illinois. \n \n
URL:https://899thewave.fm/event/nba-regular-season-starts/
END:VEVENT
END:VCALENDAR